Workbook

Sheet Your portfolio
A1: Your own reference portfolio
A2: An empty skeleton. Enter your buckets and your structure; KIRB, capital, the capital released and the break-even detachment fall out.
A4: Grade | B4: EAD | C4: PD | D4: LGD | E4: M | F4: Sales (m) | G4: Names | H4: Correlation | I4: Maturity adj. | J4: K | K4: RWA | L4: Expected loss | M4: EAD² per name
A5: Bucket 1 | H5: =IF(C5="","",0.12*(1-EXP(-50*C5))/(1-EXP(-50))+0.24*(1-(1-EXP(-50*C5))/(1-EXP(-50)))-IF(F5="",0,0.04*(1-(MIN(50,MAX(5,F5))-5)/45))) | I5: =IF(C5="","",(1+(E5-2.5)*(0.11852-0.05478*LN(C5))^2)/(1-1.5*(0.11852-0.05478*LN(C5))^2)) | J5: =IF(C5="","",(D5*NORMSDIST((NORMSINV(C5)+SQRT(H5)*NORMSINV(0.999))/SQRT(1-H5))-C5*D5)*I5) | K5: =IF(C5="","",J5*12.5*B5) | L5: =IF(C5="","",C5*D5*B5) | M5: =IF(OR(B5="",G5=""),0,B5^2/G5) -> 0
A6: Bucket 2 | H6: =IF(C6="","",0.12*(1-EXP(-50*C6))/(1-EXP(-50))+0.24*(1-(1-EXP(-50*C6))/(1-EXP(-50)))-IF(F6="",0,0.04*(1-(MIN(50,MAX(5,F6))-5)/45))) | I6: =IF(C6="","",(1+(E6-2.5)*(0.11852-0.05478*LN(C6))^2)/(1-1.5*(0.11852-0.05478*LN(C6))^2)) | J6: =IF(C6="","",(D6*NORMSDIST((NORMSINV(C6)+SQRT(H6)*NORMSINV(0.999))/SQRT(1-H6))-C6*D6)*I6) | K6: =IF(C6="","",J6*12.5*B6) | L6: =IF(C6="","",C6*D6*B6) | M6: =IF(OR(B6="",G6=""),0,B6^2/G6) -> 0
A7: Bucket 3 | H7: =IF(C7="","",0.12*(1-EXP(-50*C7))/(1-EXP(-50))+0.24*(1-(1-EXP(-50*C7))/(1-EXP(-50)))-IF(F7="",0,0.04*(1-(MIN(50,MAX(5,F7))-5)/45))) | I7: =IF(C7="","",(1+(E7-2.5)*(0.11852-0.05478*LN(C7))^2)/(1-1.5*(0.11852-0.05478*LN(C7))^2)) | J7: =IF(C7="","",(D7*NORMSDIST((NORMSINV(C7)+SQRT(H7)*NORMSINV(0.999))/SQRT(1-H7))-C7*D7)*I7) | K7: =IF(C7="","",J7*12.5*B7) | L7: =IF(C7="","",C7*D7*B7) | M7: =IF(OR(B7="",G7=""),0,B7^2/G7) -> 0
A8: Bucket 4 | H8: =IF(C8="","",0.12*(1-EXP(-50*C8))/(1-EXP(-50))+0.24*(1-(1-EXP(-50*C8))/(1-EXP(-50)))-IF(F8="",0,0.04*(1-(MIN(50,MAX(5,F8))-5)/45))) | I8: =IF(C8="","",(1+(E8-2.5)*(0.11852-0.05478*LN(C8))^2)/(1-1.5*(0.11852-0.05478*LN(C8))^2)) | J8: =IF(C8="","",(D8*NORMSDIST((NORMSINV(C8)+SQRT(H8)*NORMSINV(0.999))/SQRT(1-H8))-C8*D8)*I8) | K8: =IF(C8="","",J8*12.5*B8) | L8: =IF(C8="","",C8*D8*B8) | M8: =IF(OR(B8="",G8=""),0,B8^2/G8) -> 0
A9: Bucket 5 | H9: =IF(C9="","",0.12*(1-EXP(-50*C9))/(1-EXP(-50))+0.24*(1-(1-EXP(-50*C9))/(1-EXP(-50)))-IF(F9="",0,0.04*(1-(MIN(50,MAX(5,F9))-5)/45))) | I9: =IF(C9="","",(1+(E9-2.5)*(0.11852-0.05478*LN(C9))^2)/(1-1.5*(0.11852-0.05478*LN(C9))^2)) | J9: =IF(C9="","",(D9*NORMSDIST((NORMSINV(C9)+SQRT(H9)*NORMSINV(0.999))/SQRT(1-H9))-C9*D9)*I9) | K9: =IF(C9="","",J9*12.5*B9) | L9: =IF(C9="","",C9*D9*B9) | M9: =IF(OR(B9="",G9=""),0,B9^2/G9) -> 0
A10: Bucket 6 | H10: =IF(C10="","",0.12*(1-EXP(-50*C10))/(1-EXP(-50))+0.24*(1-(1-EXP(-50*C10))/(1-EXP(-50)))-IF(F10="",0,0.04*(1-(MIN(50,MAX(5,F10))-5)/45))) | I10: =IF(C10="","",(1+(E10-2.5)*(0.11852-0.05478*LN(C10))^2)/(1-1.5*(0.11852-0.05478*LN(C10))^2)) | J10: =IF(C10="","",(D10*NORMSDIST((NORMSINV(C10)+SQRT(H10)*NORMSINV(0.999))/SQRT(1-H10))-C10*D10)*I10) | K10: =IF(C10="","",J10*12.5*B10) | L10: =IF(C10="","",C10*D10*B10) | M10: =IF(OR(B10="",G10=""),0,B10^2/G10) -> 0
A11: Bucket 7 | H11: =IF(C11="","",0.12*(1-EXP(-50*C11))/(1-EXP(-50))+0.24*(1-(1-EXP(-50*C11))/(1-EXP(-50)))-IF(F11="",0,0.04*(1-(MIN(50,MAX(5,F11))-5)/45))) | I11: =IF(C11="","",(1+(E11-2.5)*(0.11852-0.05478*LN(C11))^2)/(1-1.5*(0.11852-0.05478*LN(C11))^2)) | J11: =IF(C11="","",(D11*NORMSDIST((NORMSINV(C11)+SQRT(H11)*NORMSINV(0.999))/SQRT(1-H11))-C11*D11)*I11) | K11: =IF(C11="","",J11*12.5*B11) | L11: =IF(C11="","",C11*D11*B11) | M11: =IF(OR(B11="",G11=""),0,B11^2/G11) -> 0
A12: Bucket 8 | H12: =IF(C12="","",0.12*(1-EXP(-50*C12))/(1-EXP(-50))+0.24*(1-(1-EXP(-50*C12))/(1-EXP(-50)))-IF(F12="",0,0.04*(1-(MIN(50,MAX(5,F12))-5)/45))) | I12: =IF(C12="","",(1+(E12-2.5)*(0.11852-0.05478*LN(C12))^2)/(1-1.5*(0.11852-0.05478*LN(C12))^2)) | J12: =IF(C12="","",(D12*NORMSDIST((NORMSINV(C12)+SQRT(H12)*NORMSINV(0.999))/SQRT(1-H12))-C12*D12)*I12) | K12: =IF(C12="","",J12*12.5*B12) | L12: =IF(C12="","",C12*D12*B12) | M12: =IF(OR(B12="",G12=""),0,B12^2/G12) -> 0
A13: Bucket 9 | H13: =IF(C13="","",0.12*(1-EXP(-50*C13))/(1-EXP(-50))+0.24*(1-(1-EXP(-50*C13))/(1-EXP(-50)))-IF(F13="",0,0.04*(1-(MIN(50,MAX(5,F13))-5)/45))) | I13: =IF(C13="","",(1+(E13-2.5)*(0.11852-0.05478*LN(C13))^2)/(1-1.5*(0.11852-0.05478*LN(C13))^2)) | J13: =IF(C13="","",(D13*NORMSDIST((NORMSINV(C13)+SQRT(H13)*NORMSINV(0.999))/SQRT(1-H13))-C13*D13)*I13) | K13: =IF(C13="","",J13*12.5*B13) | L13: =IF(C13="","",C13*D13*B13) | M13: =IF(OR(B13="",G13=""),0,B13^2/G13) -> 0
A14: Bucket 10 | H14: =IF(C14="","",0.12*(1-EXP(-50*C14))/(1-EXP(-50))+0.24*(1-(1-EXP(-50*C14))/(1-EXP(-50)))-IF(F14="",0,0.04*(1-(MIN(50,MAX(5,F14))-5)/45))) | I14: =IF(C14="","",(1+(E14-2.5)*(0.11852-0.05478*LN(C14))^2)/(1-1.5*(0.11852-0.05478*LN(C14))^2)) | J14: =IF(C14="","",(D14*NORMSDIST((NORMSINV(C14)+SQRT(H14)*NORMSINV(0.999))/SQRT(1-H14))-C14*D14)*I14) | K14: =IF(C14="","",J14*12.5*B14) | L14: =IF(C14="","",C14*D14*B14) | M14: =IF(OR(B14="",G14=""),0,B14^2/G14) -> 0
A15: Bucket 11 | H15: =IF(C15="","",0.12*(1-EXP(-50*C15))/(1-EXP(-50))+0.24*(1-(1-EXP(-50*C15))/(1-EXP(-50)))-IF(F15="",0,0.04*(1-(MIN(50,MAX(5,F15))-5)/45))) | I15: =IF(C15="","",(1+(E15-2.5)*(0.11852-0.05478*LN(C15))^2)/(1-1.5*(0.11852-0.05478*LN(C15))^2)) | J15: =IF(C15="","",(D15*NORMSDIST((NORMSINV(C15)+SQRT(H15)*NORMSINV(0.999))/SQRT(1-H15))-C15*D15)*I15) | K15: =IF(C15="","",J15*12.5*B15) | L15: =IF(C15="","",C15*D15*B15) | M15: =IF(OR(B15="",G15=""),0,B15^2/G15) -> 0
A16: Bucket 12 | H16: =IF(C16="","",0.12*(1-EXP(-50*C16))/(1-EXP(-50))+0.24*(1-(1-EXP(-50*C16))/(1-EXP(-50)))-IF(F16="",0,0.04*(1-(MIN(50,MAX(5,F16))-5)/45))) | I16: =IF(C16="","",(1+(E16-2.5)*(0.11852-0.05478*LN(C16))^2)/(1-1.5*(0.11852-0.05478*LN(C16))^2)) | J16: =IF(C16="","",(D16*NORMSDIST((NORMSINV(C16)+SQRT(H16)*NORMSINV(0.999))/SQRT(1-H16))-C16*D16)*I16) | K16: =IF(C16="","",J16*12.5*B16) | L16: =IF(C16="","",C16*D16*B16) | M16: =IF(OR(B16="",G16=""),0,B16^2/G16) -> 0
A17: Total | B17: =SUM(B5:B16) -> 0 | K17: =SUM(K5:K16) -> 0 | L17: =SUM(L5:L16) -> 0
A19: Your numbers
A20: RWA density | B20: =IF(B17=0,"",K17/B17)
A21: Expected loss, per euro | B21: =IF(B17=0,"",L17/B17)
A22: KIRB | B22: =IF(B17=0,"",(K17*0.08+L17)/B17)
A23: Capital held at your CET1 target | B23: =IF(OR(B17=0,B29=""),"",K17*B29)
A24: Detachment with 50 basis points of clearance (a rule of thumb, not a break-even) | B24: =IF(B17=0,"",B22+0.005)
A26: Leave the sales column empty for large corporates. Revised 24 September 2026: the first edition called row 24 the minimum detachment point, below which "the structure destroys capital". It is a clearance rule. On the book's portfolio a detachment below KIRB still releases capital down to about 3.5 percent; row 43 gives your own break-even.
A28: Your structure
A29: CET1 target | C29: the book: 13.50 percent
A30: Detachment point of the junior tranche | C30: the book: 7.00 percent
A31: Share of the junior retained, vertically and deducted | C31: the book: 5 percent
A32: Tranche maturity for the p-factor, years | C32: the book: 5
A33: STS on-balance-sheet, senior retained? (1 = yes, 0 = no) | C33: the book: 0
A35: Results
A36: Effective number of exposures (from the Names column) | B36: =IF(B17=0,"",B17^2/SUM(M5:M16))
A37: Weighted average LGD | B37: =IF(B17=0,"",SUMPRODUCT(D5:D16,B5:B16)/B17)
A38: Senior p | B38: =IF(OR(B17=0,COUNT(B29:B33)<5),"",IF(B33=1,MAX(0.3,MAX(0.3,IF(B36>=25,0+3.56/B36+(-1.85)*B22+0.55*B37+0.07*B32,0.11+2.61/B36+(-2.91)*B22+0.68*B37+0.07*B32))/2),MAX(0.3,IF(B36>=25,0+3.56/B36+(-1.85)*B22+0.55*B37+0.07*B32,0.11+2.61/B36+(-2.91)*B22+0.68*B37+0.07*B32))))
A39: Senior risk weight | B39: =IF(OR(B17=0,COUNT(B29:B33)<5),"",MAX(IF(B33=1,0.1,0.15),12.5*IF((1)<=(B22),1,IF((B30)>=(B22),(EXP((-1/((B38)*(B22)))*((1)-(B22)))-EXP((-1/((B38)*(B22)))*MAX((B30)-(B22),0)))/((-1/((B38)*(B22)))*(((1)-(B22))-MAX((B30)-(B22),0))),((B22)-(B30))/((1)-(B30))+(1-((B22)-(B30))/((1)-(B30)))*(EXP((-1/((B38)*(B22)))*((1)-(B22)))-EXP((-1/((B38)*(B22)))*MAX((B22)-(B22),0)))/((-1/((B38)*(B22)))*(((1)-(B22))-MAX((B22)-(B22),0)))))))
A40: Capital held after the trade | B40: =IF(OR(B17=0,COUNT(B29:B33)<5),"",B39*(1-B30)*B17*B29+B30*B17*B31)
A41: Capital released | B41: =IF(OR(B17=0,COUNT(B29:B33)<5),"",B23-B40)
A42: Share of RWA released | B42: =IF(OR(B17=0,COUNT(B29:B33)<5),"",1-B39*(1-B30)*B17/K17)
A43: Detachment at which your structure releases nothing | B43: =IF(OR(B17=0,COUNT(B29:B33)<5),"",'Break-even'!I44)
A44: Clearance of your detachment above KIRB | B44: =IF(OR(B17=0,COUNT(B29:B33)<5),"",B30-B22)

Sheet Worked example
A1: Worked example: the book's portfolio, through the same formulas
A2: Northwall 2026-1's seven buckets and its structure, typed into the blank sheet. Every figure below is the book's.
A4: Grade | B4: EAD | C4: PD | D4: LGD | E4: M | F4: Sales (m) | G4: Names | H4: Correlation | I4: Maturity adj. | J4: K | K4: RWA | L4: Expected loss | M4: EAD² per name
A5: 1 (AA/A) | B5: 520000000 | C5: 0.0009 | D5: 0.35 | E5: 3.4 | G5: 16 | H5: =IF(C5="","",0.12*(1-EXP(-50*C5))/(1-EXP(-50))+0.24*(1-(1-EXP(-50*C5))/(1-EXP(-50)))-IF(F5="",0,0.04*(1-(MIN(50,MAX(5,F5))-5)/45))) -> 0.2347197 | I5: =IF(C5="","",(1+(E5-2.5)*(0.11852-0.05478*LN(C5))^2)/(1-1.5*(0.11852-0.05478*LN(C5))^2)) -> 1.9767329 | J5: =IF(C5="","",(D5*NORMSDIST((NORMSINV(C5)+SQRT(H5)*NORMSINV(0.999))/SQRT(1-H5))-C5*D5)*I5) -> 0.021293756 | K5: =IF(C5="","",J5*12.5*B5) -> 1.3840941e+08 | L5: =IF(C5="","",C5*D5*B5) -> 163800 | M5: =IF(OR(B5="",G5=""),0,B5^2/G5) -> 1.69e+16
A6: 2 (BBB+) | B6: 720000000 | C6: 0.0021 | D6: 0.38 | E6: 3.8 | G6: 24 | H6: =IF(C6="","",0.12*(1-EXP(-50*C6))/(1-EXP(-50))+0.24*(1-(1-EXP(-50*C6))/(1-EXP(-50)))-IF(F6="",0,0.04*(1-(MIN(50,MAX(5,F6))-5)/45))) -> 0.22803894 | I6: =IF(C6="","",(1+(E6-2.5)*(0.11852-0.05478*LN(C6))^2)/(1-1.5*(0.11852-0.05478*LN(C6))^2)) -> 1.8476635 | J6: =IF(C6="","",(D6*NORMSDIST((NORMSINV(C6)+SQRT(H6)*NORMSINV(0.999))/SQRT(1-H6))-C6*D6)*I6) -> 0.038690112 | K6: =IF(C6="","",J6*12.5*B6) -> 3.48211e+08 | L6: =IF(C6="","",C6*D6*B6) -> 574560 | M6: =IF(OR(B6="",G6=""),0,B6^2/G6) -> 2.16e+16
A7: 3 (BBB) | B7: 880000000 | C7: 0.0038 | D7: 0.4 | E7: 4.1 | G7: 32 | H7: =IF(C7="","",0.12*(1-EXP(-50*C7))/(1-EXP(-50))+0.24*(1-(1-EXP(-50*C7))/(1-EXP(-50)))-IF(F7="",0,0.04*(1-(MIN(50,MAX(5,F7))-5)/45))) -> 0.2192351 | I7: =IF(C7="","",(1+(E7-2.5)*(0.11852-0.05478*LN(C7))^2)/(1-1.5*(0.11852-0.05478*LN(C7))^2)) -> 1.7620737 | J7: =IF(C7="","",(D7*NORMSDIST((NORMSINV(C7)+SQRT(H7)*NORMSINV(0.999))/SQRT(1-H7))-C7*D7)*I7) -> 0.056009696 | K7: =IF(C7="","",J7*12.5*B7) -> 6.1610666e+08 | L7: =IF(C7="","",C7*D7*B7) -> 1337600 | M7: =IF(OR(B7="",G7=""),0,B7^2/G7) -> 2.42e+16
A8: 4 (BBB-) | B8: 780000000 | C8: 0.0067 | D8: 0.42 | E8: 4.3 | G8: 35 | H8: =IF(C8="","",0.12*(1-EXP(-50*C8))/(1-EXP(-50))+0.24*(1-(1-EXP(-50*C8))/(1-EXP(-50)))-IF(F8="",0,0.04*(1-(MIN(50,MAX(5,F8))-5)/45))) -> 0.20584057 | I8: =IF(C8="","",(1+(E8-2.5)*(0.11852-0.05478*LN(C8))^2)/(1-1.5*(0.11852-0.05478*LN(C8))^2)) -> 1.6621779 | J8: =IF(C8="","",(D8*NORMSDIST((NORMSINV(C8)+SQRT(H8)*NORMSINV(0.999))/SQRT(1-H8))-C8*D8)*I8) -> 0.075420064 | K8: =IF(C8="","",J8*12.5*B8) -> 7.3534562e+08 | L8: =IF(C8="","",C8*D8*B8) -> 2194920 | M8: =IF(OR(B8="",G8=""),0,B8^2/G8) -> 1.7382857e+16
A9: 5 (BB+) | B9: 560000000 | C9: 0.0121 | D9: 0.44 | E9: 4 | F9: 38 | G9: 33 | H9: =IF(C9="","",0.12*(1-EXP(-50*C9))/(1-EXP(-50))+0.24*(1-(1-EXP(-50*C9))/(1-EXP(-50)))-IF(F9="",0,0.04*(1-(MIN(50,MAX(5,F9))-5)/45))) -> 0.17486226 | I9: =IF(C9="","",(1+(E9-2.5)*(0.11852-0.05478*LN(C9))^2)/(1-1.5*(0.11852-0.05478*LN(C9))^2)) -> 1.4837844 | J9: =IF(C9="","",(D9*NORMSDIST((NORMSINV(C9)+SQRT(H9)*NORMSINV(0.999))/SQRT(1-H9))-C9*D9)*I9) -> 0.086676679 | K9: =IF(C9="","",J9*12.5*B9) -> 6.0673675e+08 | L9: =IF(C9="","",C9*D9*B9) -> 2981440 | M9: =IF(OR(B9="",G9=""),0,B9^2/G9) -> 9.5030303e+15
A10: 6 (BB) | B10: 380000000 | C10: 0.0224 | D10: 0.45 | E10: 3.7 | F10: 24 | G10: 30 | H10: =IF(C10="","",0.12*(1-EXP(-50*C10))/(1-EXP(-50))+0.24*(1-(1-EXP(-50*C10))/(1-EXP(-50)))-IF(F10="",0,0.04*(1-(MIN(50,MAX(5,F10))-5)/45))) -> 0.13604246 | I10: =IF(C10="","",(1+(E10-2.5)*(0.11852-0.05478*LN(C10))^2)/(1-1.5*(0.11852-0.05478*LN(C10))^2)) -> 1.3428917 | J10: =IF(C10="","",(D10*NORMSDIST((NORMSINV(C10)+SQRT(H10)*NORMSINV(0.999))/SQRT(1-H10))-C10*D10)*I10) -> 0.092546208 | K10: =IF(C10="","",J10*12.5*B10) -> 4.3959449e+08 | L10: =IF(C10="","",C10*D10*B10) -> 3830400 | M10: =IF(OR(B10="",G10=""),0,B10^2/G10) -> 4.8133333e+15
A11: 7 (BB-) | B11: 160000000 | C11: 0.041 | D11: 0.45 | E11: 3.2 | F11: 15 | G11: 14 | H11: =IF(C11="","",0.12*(1-EXP(-50*C11))/(1-EXP(-50))+0.24*(1-(1-EXP(-50*C11))/(1-EXP(-50)))-IF(F11="",0,0.04*(1-(MIN(50,MAX(5,F11))-5)/45))) -> 0.10433708 | I11: =IF(C11="","",(1+(E11-2.5)*(0.11852-0.05478*LN(C11))^2)/(1-1.5*(0.11852-0.05478*LN(C11))^2)) -> 1.2176297 | J11: =IF(C11="","",(D11*NORMSDIST((NORMSINV(C11)+SQRT(H11)*NORMSINV(0.999))/SQRT(1-H11))-C11*D11)*I11) -> 0.096336333 | K11: =IF(C11="","",J11*12.5*B11) -> 1.9267267e+08 | L11: =IF(C11="","",C11*D11*B11) -> 2952000 | M11: =IF(OR(B11="",G11=""),0,B11^2/G11) -> 1.8285714e+15
A12: Bucket 8 | H12: =IF(C12="","",0.12*(1-EXP(-50*C12))/(1-EXP(-50))+0.24*(1-(1-EXP(-50*C12))/(1-EXP(-50)))-IF(F12="",0,0.04*(1-(MIN(50,MAX(5,F12))-5)/45))) | I12: =IF(C12="","",(1+(E12-2.5)*(0.11852-0.05478*LN(C12))^2)/(1-1.5*(0.11852-0.05478*LN(C12))^2)) | J12: =IF(C12="","",(D12*NORMSDIST((NORMSINV(C12)+SQRT(H12)*NORMSINV(0.999))/SQRT(1-H12))-C12*D12)*I12) | K12: =IF(C12="","",J12*12.5*B12) | L12: =IF(C12="","",C12*D12*B12) | M12: =IF(OR(B12="",G12=""),0,B12^2/G12) -> 0
A13: Bucket 9 | H13: =IF(C13="","",0.12*(1-EXP(-50*C13))/(1-EXP(-50))+0.24*(1-(1-EXP(-50*C13))/(1-EXP(-50)))-IF(F13="",0,0.04*(1-(MIN(50,MAX(5,F13))-5)/45))) | I13: =IF(C13="","",(1+(E13-2.5)*(0.11852-0.05478*LN(C13))^2)/(1-1.5*(0.11852-0.05478*LN(C13))^2)) | J13: =IF(C13="","",(D13*NORMSDIST((NORMSINV(C13)+SQRT(H13)*NORMSINV(0.999))/SQRT(1-H13))-C13*D13)*I13) | K13: =IF(C13="","",J13*12.5*B13) | L13: =IF(C13="","",C13*D13*B13) | M13: =IF(OR(B13="",G13=""),0,B13^2/G13) -> 0
A14: Bucket 10 | H14: =IF(C14="","",0.12*(1-EXP(-50*C14))/(1-EXP(-50))+0.24*(1-(1-EXP(-50*C14))/(1-EXP(-50)))-IF(F14="",0,0.04*(1-(MIN(50,MAX(5,F14))-5)/45))) | I14: =IF(C14="","",(1+(E14-2.5)*(0.11852-0.05478*LN(C14))^2)/(1-1.5*(0.11852-0.05478*LN(C14))^2)) | J14: =IF(C14="","",(D14*NORMSDIST((NORMSINV(C14)+SQRT(H14)*NORMSINV(0.999))/SQRT(1-H14))-C14*D14)*I14) | K14: =IF(C14="","",J14*12.5*B14) | L14: =IF(C14="","",C14*D14*B14) | M14: =IF(OR(B14="",G14=""),0,B14^2/G14) -> 0
A15: Bucket 11 | H15: =IF(C15="","",0.12*(1-EXP(-50*C15))/(1-EXP(-50))+0.24*(1-(1-EXP(-50*C15))/(1-EXP(-50)))-IF(F15="",0,0.04*(1-(MIN(50,MAX(5,F15))-5)/45))) | I15: =IF(C15="","",(1+(E15-2.5)*(0.11852-0.05478*LN(C15))^2)/(1-1.5*(0.11852-0.05478*LN(C15))^2)) | J15: =IF(C15="","",(D15*NORMSDIST((NORMSINV(C15)+SQRT(H15)*NORMSINV(0.999))/SQRT(1-H15))-C15*D15)*I15) | K15: =IF(C15="","",J15*12.5*B15) | L15: =IF(C15="","",C15*D15*B15) | M15: =IF(OR(B15="",G15=""),0,B15^2/G15) -> 0
A16: Bucket 12 | H16: =IF(C16="","",0.12*(1-EXP(-50*C16))/(1-EXP(-50))+0.24*(1-(1-EXP(-50*C16))/(1-EXP(-50)))-IF(F16="",0,0.04*(1-(MIN(50,MAX(5,F16))-5)/45))) | I16: =IF(C16="","",(1+(E16-2.5)*(0.11852-0.05478*LN(C16))^2)/(1-1.5*(0.11852-0.05478*LN(C16))^2)) | J16: =IF(C16="","",(D16*NORMSDIST((NORMSINV(C16)+SQRT(H16)*NORMSINV(0.999))/SQRT(1-H16))-C16*D16)*I16) | K16: =IF(C16="","",J16*12.5*B16) | L16: =IF(C16="","",C16*D16*B16) | M16: =IF(OR(B16="",G16=""),0,B16^2/G16) -> 0
A17: Total | B17: =SUM(B5:B16) -> 4000000000 | K17: =SUM(K5:K16) -> 3.0770766e+09 | L17: =SUM(L5:L16) -> 14034720
A19: Your numbers
A20: RWA density | B20: =IF(B17=0,"",K17/B17) -> 0.76926915
A21: Expected loss, per euro | B21: =IF(B17=0,"",L17/B17) -> 0.00350868
A22: KIRB | B22: =IF(B17=0,"",(K17*0.08+L17)/B17) -> 0.065050212
A23: Capital held at your CET1 target | B23: =IF(OR(B17=0,B29=""),"",K17*B29) -> 4.1540534e+08
A24: Detachment with 50 basis points of clearance (a rule of thumb, not a break-even) | B24: =IF(B17=0,"",B22+0.005) -> 0.070050212
A26: Leave the sales column empty for large corporates. Revised 24 September 2026: the first edition called row 24 the minimum detachment point, below which "the structure destroys capital". It is a clearance rule. On the book's portfolio a detachment below KIRB still releases capital down to about 3.5 percent; row 43 gives your own break-even.
A28: Your structure
A29: CET1 target | B29: 0.135 | C29: the book: 13.50 percent
A30: Detachment point of the junior tranche | B30: 0.07 | C30: the book: 7.00 percent
A31: Share of the junior retained, vertically and deducted | B31: 0.05 | C31: the book: 5 percent
A32: Tranche maturity for the p-factor, years | B32: 5 | C32: the book: 5
A33: STS on-balance-sheet, senior retained? (1 = yes, 0 = no) | B33: 0 | C33: the book: 0
A35: Results
A36: Effective number of exposures (from the Names column) | B36: =IF(B17=0,"",B17^2/SUM(M5:M16)) -> 166.27213
A37: Weighted average LGD | B37: =IF(B17=0,"",SUMPRODUCT(D5:D16,B5:B16)/B17) -> 0.40615
A38: Senior p | B38: =IF(OR(B17=0,COUNT(B29:B33)<5),"",IF(B33=1,MAX(0.3,MAX(0.3,IF(B36>=25,0+3.56/B36+(-1.85)*B22+0.55*B37+0.07*B32,0.11+2.61/B36+(-2.91)*B22+0.68*B37+0.07*B32))/2),MAX(0.3,IF(B36>=25,0+3.56/B36+(-1.85)*B22+0.55*B37+0.07*B32,0.11+2.61/B36+(-2.91)*B22+0.68*B37+0.07*B32)))) -> 0.47445029
A39: Senior risk weight | B39: =IF(OR(B17=0,COUNT(B29:B33)<5),"",MAX(IF(B33=1,0.1,0.15),12.5*IF((1)<=(B22),1,IF((B30)>=(B22),(EXP((-1/((B38)*(B22)))*((1)-(B22)))-EXP((-1/((B38)*(B22)))*MAX((B30)-(B22),0)))/((-1/((B38)*(B22)))*(((1)-(B22))-MAX((B30)-(B22),0))),((B22)-(B30))/((1)-(B30))+(1-((B22)-(B30))/((1)-(B30)))*(EXP((-1/((B38)*(B22)))*((1)-(B22)))-EXP((-1/((B38)*(B22)))*MAX((B22)-(B22),0)))/((-1/((B38)*(B22)))*(((1)-(B22))-MAX((B22)-(B22),0))))))) -> 0.35335793
A40: Capital held after the trade | B40: =IF(OR(B17=0,COUNT(B29:B33)<5),"",B39*(1-B30)*B17*B29+B30*B17*B31) -> 1.9145635e+08
A41: Capital released | B41: =IF(OR(B17=0,COUNT(B29:B33)<5),"",B23-B40) -> 2.2394899e+08
A42: Share of RWA released | B42: =IF(OR(B17=0,COUNT(B29:B33)<5),"",1-B39*(1-B30)*B17/K17) -> 0.57281158
A43: Detachment at which your structure releases nothing | B43: =IF(OR(B17=0,COUNT(B29:B33)<5),"",'Break-even, example'!I44) -> 0.035421292
A44: Clearance of your detachment above KIRB | B44: =IF(OR(B17=0,COUNT(B29:B33)<5),"",B30-B22) -> 0.004949788

Sheet Break-even
A1: The detachment at which the structure releases nothing
A2: Forty halvings on the portfolio of the sheet "Your portfolio". Everything else as entered there.
A4: Step | B4: Low | C4: High | D4: Middle | E4: Capital released
A5: 1 | B5: =0.001 -> 0.001 | C5: =IF('Your portfolio'!B22="",0.3,'Your portfolio'!B22+0.05) -> 0.3 | D5: =(B5+C5)/2 -> 0.1505 | E5: =IF(ISNUMBER('Your portfolio'!B38),'Your portfolio'!B23-(MAX(IF('Your portfolio'!B33=1,0.1,0.15),12.5*IF((1)<=('Your portfolio'!B22),1,IF((D5)>=('Your portfolio'!B22),(EXP((-1/(('Your portfolio'!B38)*('Your portfolio'!B22)))*((1)-('Your portfolio'!B22)))-EXP((-1/(('Your portfolio'!B38)*('Your portfolio'!B22)))*MAX((D5)-('Your portfolio'!B22),0)))/((-1/(('Your portfolio'!B38)*('Your portfolio'!B22)))*(((1)-('Your portfolio'!B22))-MAX((D5)-('Your portfolio'!B22),0))),(('Your portfolio'!B22)-(D5))/((1)-(D5))+(1-(('Your portfolio'!B22)-(D5))/((1)-(D5)))*(EXP((-1/(('Your portfolio'!B38)*('Your portfolio'!B22)))*((1)-('Your portfolio'!B22)))-EXP((-1/(('Your portfolio'!B38)*('Your portfolio'!B22)))*MAX(('Your portfolio'!B22)-('Your portfolio'!B22),0)))/((-1/(('Your portfolio'!B38)*('Your portfolio'!B22)))*(((1)-('Your portfolio'!B22))-MAX(('Your portfolio'!B22)-('Your portfolio'!B22),0))))))*(1-D5)*'Your portfolio'!B17*'Your portfolio'!B29+D5*'Your portfolio'!B17*'Your portfolio'!B31),0) -> 0
A6: 2 | B6: =IF(E5<0,D5,B5) -> 0.001 | C6: =IF(E5<0,C5,D5) -> 0.1505 | D6: =(B6+C6)/2 -> 0.07575 | E6: =IF(ISNUMBER('Your portfolio'!B38),'Your portfolio'!B23-(MAX(IF('Your portfolio'!B33=1,0.1,0.15),12.5*IF((1)<=('Your portfolio'!B22),1,IF((D6)>=('Your portfolio'!B22),(EXP((-1/(('Your portfolio'!B38)*('Your portfolio'!B22)))*((1)-('Your portfolio'!B22)))-EXP((-1/(('Your portfolio'!B38)*('Your portfolio'!B22)))*MAX((D6)-('Your portfolio'!B22),0)))/((-1/(('Your portfolio'!B38)*('Your portfolio'!B22)))*(((1)-('Your portfolio'!B22))-MAX((D6)-('Your portfolio'!B22),0))),(('Your portfolio'!B22)-(D6))/((1)-(D6))+(1-(('Your portfolio'!B22)-(D6))/((1)-(D6)))*(EXP((-1/(('Your portfolio'!B38)*('Your portfolio'!B22)))*((1)-('Your portfolio'!B22)))-EXP((-1/(('Your portfolio'!B38)*('Your portfolio'!B22)))*MAX(('Your portfolio'!B22)-('Your portfolio'!B22),0)))/((-1/(('Your portfolio'!B38)*('Your portfolio'!B22)))*(((1)-('Your portfolio'!B22))-MAX(('Your portfolio'!B22)-('Your portfolio'!B22),0))))))*(1-D6)*'Your portfolio'!B17*'Your portfolio'!B29+D6*'Your portfolio'!B17*'Your portfolio'!B31),0) -> 0
A7: 3 | B7: =IF(E6<0,D6,B6) -> 0.001 | C7: =IF(E6<0,C6,D6) -> 0.07575 | D7: =(B7+C7)/2 -> 0.038375 | E7: =IF(ISNUMBER('Your portfolio'!B38),'Your portfolio'!B23-(MAX(IF('Your portfolio'!B33=1,0.1,0.15),12.5*IF((1)<=('Your portfolio'!B22),1,IF((D7)>=('Your portfolio'!B22),(EXP((-1/(('Your portfolio'!B38)*('Your portfolio'!B22)))*((1)-('Your portfolio'!B22)))-EXP((-1/(('Your portfolio'!B38)*('Your portfolio'!B22)))*MAX((D7)-('Your portfolio'!B22),0)))/((-1/(('Your portfolio'!B38)*('Your portfolio'!B22)))*(((1)-('Your portfolio'!B22))-MAX((D7)-('Your portfolio'!B22),0))),(('Your portfolio'!B22)-(D7))/((1)-(D7))+(1-(('Your portfolio'!B22)-(D7))/((1)-(D7)))*(EXP((-1/(('Your portfolio'!B38)*('Your portfolio'!B22)))*((1)-('Your portfolio'!B22)))-EXP((-1/(('Your portfolio'!B38)*('Your portfolio'!B22)))*MAX(('Your portfolio'!B22)-('Your portfolio'!B22),0)))/((-1/(('Your portfolio'!B38)*('Your portfolio'!B22)))*(((1)-('Your portfolio'!B22))-MAX(('Your portfolio'!B22)-('Your portfolio'!B22),0))))))*(1-D7)*'Your portfolio'!B17*'Your portfolio'!B29+D7*'Your portfolio'!B17*'Your portfolio'!B31),0) -> 0
A8: 4 | B8: =IF(E7<0,D7,B7) -> 0.001 | C8: =IF(E7<0,C7,D7) -> 0.038375 | D8: =(B8+C8)/2 -> 0.0196875 | E8: =IF(ISNUMBER('Your portfolio'!B38),'Your portfolio'!B23-(MAX(IF('Your portfolio'!B33=1,0.1,0.15),12.5*IF((1)<=('Your portfolio'!B22),1,IF((D8)>=('Your portfolio'!B22),(EXP((-1/(('Your portfolio'!B38)*('Your portfolio'!B22)))*((1)-('Your portfolio'!B22)))-EXP((-1/(('Your portfolio'!B38)*('Your portfolio'!B22)))*MAX((D8)-('Your portfolio'!B22),0)))/((-1/(('Your portfolio'!B38)*('Your portfolio'!B22)))*(((1)-('Your portfolio'!B22))-MAX((D8)-('Your portfolio'!B22),0))),(('Your portfolio'!B22)-(D8))/((1)-(D8))+(1-(('Your portfolio'!B22)-(D8))/((1)-(D8)))*(EXP((-1/(('Your portfolio'!B38)*('Your portfolio'!B22)))*((1)-('Your portfolio'!B22)))-EXP((-1/(('Your portfolio'!B38)*('Your portfolio'!B22)))*MAX(('Your portfolio'!B22)-('Your portfolio'!B22),0)))/((-1/(('Your portfolio'!B38)*('Your portfolio'!B22)))*(((1)-('Your portfolio'!B22))-MAX(('Your portfolio'!B22)-('Your portfolio'!B22),0))))))*(1-D8)*'Your portfolio'!B17*'Your portfolio'!B29+D8*'Your portfolio'!B17*'Your portfolio'!B31),0) -> 0
A9: 5 | B9: =IF(E8<0,D8,B8) -> 0.001 | C9: =IF(E8<0,C8,D8) -> 0.0196875 | D9: =(B9+C9)/2 -> 0.01034375 | E9: =IF(ISNUMBER('Your portfolio'!B38),'Your portfolio'!B23-(MAX(IF('Your portfolio'!B33=1,0.1,0.15),12.5*IF((1)<=('Your portfolio'!B22),1,IF((D9)>=('Your portfolio'!B22),(EXP((-1/(('Your portfolio'!B38)*('Your portfolio'!B22)))*((1)-('Your portfolio'!B22)))-EXP((-1/(('Your portfolio'!B38)*('Your portfolio'!B22)))*MAX((D9)-('Your portfolio'!B22),0)))/((-1/(('Your portfolio'!B38)*('Your portfolio'!B22)))*(((1)-('Your portfolio'!B22))-MAX((D9)-('Your portfolio'!B22),0))),(('Your portfolio'!B22)-(D9))/((1)-(D9))+(1-(('Your portfolio'!B22)-(D9))/((1)-(D9)))*(EXP((-1/(('Your portfolio'!B38)*('Your portfolio'!B22)))*((1)-('Your portfolio'!B22)))-EXP((-1/(('Your portfolio'!B38)*('Your portfolio'!B22)))*MAX(('Your portfolio'!B22)-('Your portfolio'!B22),0)))/((-1/(('Your portfolio'!B38)*('Your portfolio'!B22)))*(((1)-('Your portfolio'!B22))-MAX(('Your portfolio'!B22)-('Your portfolio'!B22),0))))))*(1-D9)*'Your portfolio'!B17*'Your portfolio'!B29+D9*'Your portfolio'!B17*'Your portfolio'!B31),0) -> 0
A10: 6 | B10: =IF(E9<0,D9,B9) -> 0.001 | C10: =IF(E9<0,C9,D9) -> 0.01034375 | D10: =(B10+C10)/2 -> 0.005671875 | E10: =IF(ISNUMBER('Your portfolio'!B38),'Your portfolio'!B23-(MAX(IF('Your portfolio'!B33=1,0.1,0.15),12.5*IF((1)<=('Your portfolio'!B22),1,IF((D10)>=('Your portfolio'!B22),(EXP((-1/(('Your portfolio'!B38)*('Your portfolio'!B22)))*((1)-('Your portfolio'!B22)))-EXP((-1/(('Your portfolio'!B38)*('Your portfolio'!B22)))*MAX((D10)-('Your portfolio'!B22),0)))/((-1/(('Your portfolio'!B38)*('Your portfolio'!B22)))*(((1)-('Your portfolio'!B22))-MAX((D10)-('Your portfolio'!B22),0))),(('Your portfolio'!B22)-(D10))/((1)-(D10))+(1-(('Your portfolio'!B22)-(D10))/((1)-(D10)))*(EXP((-1/(('Your portfolio'!B38)*('Your portfolio'!B22)))*((1)-('Your portfolio'!B22)))-EXP((-1/(('Your portfolio'!B38)*('Your portfolio'!B22)))*MAX(('Your portfolio'!B22)-('Your portfolio'!B22),0)))/((-1/(('Your portfolio'!B38)*('Your portfolio'!B22)))*(((1)-('Your portfolio'!B22))-MAX(('Your portfolio'!B22)-('Your portfolio'!B22),0))))))*(1-D10)*'Your portfolio'!B17*'Your portfolio'!B29+D10*'Your portfolio'!B17*'Your portfolio'!B31),0) -> 0
A11: 7 | B11: =IF(E10<0,D10,B10) -> 0.001 | C11: =IF(E10<0,C10,D10) -> 0.005671875 | D11: =(B11+C11)/2 -> 0.0033359375 | E11: =IF(ISNUMBER('Your portfolio'!B38),'Your portfolio'!B23-(MAX(IF('Your portfolio'!B33=1,0.1,0.15),12.5*IF((1)<=('Your portfolio'!B22),1,IF((D11)>=('Your portfolio'!B22),(EXP((-1/(('Your portfolio'!B38)*('Your portfolio'!B22)))*((1)-('Your portfolio'!B22)))-EXP((-1/(('Your portfolio'!B38)*('Your portfolio'!B22)))*MAX((D11)-('Your portfolio'!B22),0)))/((-1/(('Your portfolio'!B38)*('Your portfolio'!B22)))*(((1)-('Your portfolio'!B22))-MAX((D11)-('Your portfolio'!B22),0))),(('Your portfolio'!B22)-(D11))/((1)-(D11))+(1-(('Your portfolio'!B22)-(D11))/((1)-(D11)))*(EXP((-1/(('Your portfolio'!B38)*('Your portfolio'!B22)))*((1)-('Your portfolio'!B22)))-EXP((-1/(('Your portfolio'!B38)*('Your portfolio'!B22)))*MAX(('Your portfolio'!B22)-('Your portfolio'!B22),0)))/((-1/(('Your portfolio'!B38)*('Your portfolio'!B22)))*(((1)-('Your portfolio'!B22))-MAX(('Your portfolio'!B22)-('Your portfolio'!B22),0))))))*(1-D11)*'Your portfolio'!B17*'Your portfolio'!B29+D11*'Your portfolio'!B17*'Your portfolio'!B31),0) -> 0
A12: 8 | B12: =IF(E11<0,D11,B11) -> 0.001 | C12: =IF(E11<0,C11,D11) -> 0.0033359375 | D12: =(B12+C12)/2 -> 0.0021679688 | E12: =IF(ISNUMBER('Your portfolio'!B38),'Your portfolio'!B23-(MAX(IF('Your portfolio'!B33=1,0.1,0.15),12.5*IF((1)<=('Your portfolio'!B22),1,IF((D12)>=('Your portfolio'!B22),(EXP((-1/(('Your portfolio'!B38)*('Your portfolio'!B22)))*((1)-('Your portfolio'!B22)))-EXP((-1/(('Your portfolio'!B38)*('Your portfolio'!B22)))*MAX((D12)-('Your portfolio'!B22),0)))/((-1/(('Your portfolio'!B38)*('Your portfolio'!B22)))*(((1)-('Your portfolio'!B22))-MAX((D12)-('Your portfolio'!B22),0))),(('Your portfolio'!B22)-(D12))/((1)-(D12))+(1-(('Your portfolio'!B22)-(D12))/((1)-(D12)))*(EXP((-1/(('Your portfolio'!B38)*('Your portfolio'!B22)))*((1)-('Your portfolio'!B22)))-EXP((-1/(('Your portfolio'!B38)*('Your portfolio'!B22)))*MAX(('Your portfolio'!B22)-('Your portfolio'!B22),0)))/((-1/(('Your portfolio'!B38)*('Your portfolio'!B22)))*(((1)-('Your portfolio'!B22))-MAX(('Your portfolio'!B22)-('Your portfolio'!B22),0))))))*(1-D12)*'Your portfolio'!B17*'Your portfolio'!B29+D12*'Your portfolio'!B17*'Your portfolio'!B31),0) -> 0
A13: 9 | B13: =IF(E12<0,D12,B12) -> 0.001 | C13: =IF(E12<0,C12,D12) -> 0.0021679688 | D13: =(B13+C13)/2 -> 0.0015839844 | E13: =IF(ISNUMBER('Your portfolio'!B38),'Your portfolio'!B23-(MAX(IF('Your portfolio'!B33=1,0.1,0.15),12.5*IF((1)<=('Your portfolio'!B22),1,IF((D13)>=('Your portfolio'!B22),(EXP((-1/(('Your portfolio'!B38)*('Your portfolio'!B22)))*((1)-('Your portfolio'!B22)))-EXP((-1/(('Your portfolio'!B38)*('Your portfolio'!B22)))*MAX((D13)-('Your portfolio'!B22),0)))/((-1/(('Your portfolio'!B38)*('Your portfolio'!B22)))*(((1)-('Your portfolio'!B22))-MAX((D13)-('Your portfolio'!B22),0))),(('Your portfolio'!B22)-(D13))/((1)-(D13))+(1-(('Your portfolio'!B22)-(D13))/((1)-(D13)))*(EXP((-1/(('Your portfolio'!B38)*('Your portfolio'!B22)))*((1)-('Your portfolio'!B22)))-EXP((-1/(('Your portfolio'!B38)*('Your portfolio'!B22)))*MAX(('Your portfolio'!B22)-('Your portfolio'!B22),0)))/((-1/(('Your portfolio'!B38)*('Your portfolio'!B22)))*(((1)-('Your portfolio'!B22))-MAX(('Your portfolio'!B22)-('Your portfolio'!B22),0))))))*(1-D13)*'Your portfolio'!B17*'Your portfolio'!B29+D13*'Your portfolio'!B17*'Your portfolio'!B31),0) -> 0
A14: 10 | B14: =IF(E13<0,D13,B13) -> 0.001 | C14: =IF(E13<0,C13,D13) -> 0.0015839844 | D14: =(B14+C14)/2 -> 0.0012919922 | E14: =IF(ISNUMBER('Your portfolio'!B38),'Your portfolio'!B23-(MAX(IF('Your portfolio'!B33=1,0.1,0.15),12.5*IF((1)<=('Your portfolio'!B22),1,IF((D14)>=('Your portfolio'!B22),(EXP((-1/(('Your portfolio'!B38)*('Your portfolio'!B22)))*((1)-('Your portfolio'!B22)))-EXP((-1/(('Your portfolio'!B38)*('Your portfolio'!B22)))*MAX((D14)-('Your portfolio'!B22),0)))/((-1/(('Your portfolio'!B38)*('Your portfolio'!B22)))*(((1)-('Your portfolio'!B22))-MAX((D14)-('Your portfolio'!B22),0))),(('Your portfolio'!B22)-(D14))/((1)-(D14))+(1-(('Your portfolio'!B22)-(D14))/((1)-(D14)))*(EXP((-1/(('Your portfolio'!B38)*('Your portfolio'!B22)))*((1)-('Your portfolio'!B22)))-EXP((-1/(('Your portfolio'!B38)*('Your portfolio'!B22)))*MAX(('Your portfolio'!B22)-('Your portfolio'!B22),0)))/((-1/(('Your portfolio'!B38)*('Your portfolio'!B22)))*(((1)-('Your portfolio'!B22))-MAX(('Your portfolio'!B22)-('Your portfolio'!B22),0))))))*(1-D14)*'Your portfolio'!B17*'Your portfolio'!B29+D14*'Your portfolio'!B17*'Your portfolio'!B31),0) -> 0
A15: 11 | B15: =IF(E14<0,D14,B14) -> 0.001 | C15: =IF(E14<0,C14,D14) -> 0.0012919922 | D15: =(B15+C15)/2 -> 0.0011459961 | E15: =IF(ISNUMBER('Your portfolio'!B38),'Your portfolio'!B23-(MAX(IF('Your portfolio'!B33=1,0.1,0.15),12.5*IF((1)<=('Your portfolio'!B22),1,IF((D15)>=('Your portfolio'!B22),(EXP((-1/(('Your portfolio'!B38)*('Your portfolio'!B22)))*((1)-('Your portfolio'!B22)))-EXP((-1/(('Your portfolio'!B38)*('Your portfolio'!B22)))*MAX((D15)-('Your portfolio'!B22),0)))/((-1/(('Your portfolio'!B38)*('Your portfolio'!B22)))*(((1)-('Your portfolio'!B22))-MAX((D15)-('Your portfolio'!B22),0))),(('Your portfolio'!B22)-(D15))/((1)-(D15))+(1-(('Your portfolio'!B22)-(D15))/((1)-(D15)))*(EXP((-1/(('Your portfolio'!B38)*('Your portfolio'!B22)))*((1)-('Your portfolio'!B22)))-EXP((-1/(('Your portfolio'!B38)*('Your portfolio'!B22)))*MAX(('Your portfolio'!B22)-('Your portfolio'!B22),0)))/((-1/(('Your portfolio'!B38)*('Your portfolio'!B22)))*(((1)-('Your portfolio'!B22))-MAX(('Your portfolio'!B22)-('Your portfolio'!B22),0))))))*(1-D15)*'Your portfolio'!B17*'Your portfolio'!B29+D15*'Your portfolio'!B17*'Your portfolio'!B31),0) -> 0
A16: 12 | B16: =IF(E15<0,D15,B15) -> 0.001 | C16: =IF(E15<0,C15,D15) -> 0.0011459961 | D16: =(B16+C16)/2 -> 0.001072998 | E16: =IF(ISNUMBER('Your portfolio'!B38),'Your portfolio'!B23-(MAX(IF('Your portfolio'!B33=1,0.1,0.15),12.5*IF((1)<=('Your portfolio'!B22),1,IF((D16)>=('Your portfolio'!B22),(EXP((-1/(('Your portfolio'!B38)*('Your portfolio'!B22)))*((1)-('Your portfolio'!B22)))-EXP((-1/(('Your portfolio'!B38)*('Your portfolio'!B22)))*MAX((D16)-('Your portfolio'!B22),0)))/((-1/(('Your portfolio'!B38)*('Your portfolio'!B22)))*(((1)-('Your portfolio'!B22))-MAX((D16)-('Your portfolio'!B22),0))),(('Your portfolio'!B22)-(D16))/((1)-(D16))+(1-(('Your portfolio'!B22)-(D16))/((1)-(D16)))*(EXP((-1/(('Your portfolio'!B38)*('Your portfolio'!B22)))*((1)-('Your portfolio'!B22)))-EXP((-1/(('Your portfolio'!B38)*('Your portfolio'!B22)))*MAX(('Your portfolio'!B22)-('Your portfolio'!B22),0)))/((-1/(('Your portfolio'!B38)*('Your portfolio'!B22)))*(((1)-('Your portfolio'!B22))-MAX(('Your portfolio'!B22)-('Your portfolio'!B22),0))))))*(1-D16)*'Your portfolio'!B17*'Your portfolio'!B29+D16*'Your portfolio'!B17*'Your portfolio'!B31),0) -> 0
A17: 13 | B17: =IF(E16<0,D16,B16) -> 0.001 | C17: =IF(E16<0,C16,D16) -> 0.001072998 | D17: =(B17+C17)/2 -> 0.001036499 | E17: =IF(ISNUMBER('Your portfolio'!B38),'Your portfolio'!B23-(MAX(IF('Your portfolio'!B33=1,0.1,0.15),12.5*IF((1)<=('Your portfolio'!B22),1,IF((D17)>=('Your portfolio'!B22),(EXP((-1/(('Your portfolio'!B38)*('Your portfolio'!B22)))*((1)-('Your portfolio'!B22)))-EXP((-1/(('Your portfolio'!B38)*('Your portfolio'!B22)))*MAX((D17)-('Your portfolio'!B22),0)))/((-1/(('Your portfolio'!B38)*('Your portfolio'!B22)))*(((1)-('Your portfolio'!B22))-MAX((D17)-('Your portfolio'!B22),0))),(('Your portfolio'!B22)-(D17))/((1)-(D17))+(1-(('Your portfolio'!B22)-(D17))/((1)-(D17)))*(EXP((-1/(('Your portfolio'!B38)*('Your portfolio'!B22)))*((1)-('Your portfolio'!B22)))-EXP((-1/(('Your portfolio'!B38)*('Your portfolio'!B22)))*MAX(('Your portfolio'!B22)-('Your portfolio'!B22),0)))/((-1/(('Your portfolio'!B38)*('Your portfolio'!B22)))*(((1)-('Your portfolio'!B22))-MAX(('Your portfolio'!B22)-('Your portfolio'!B22),0))))))*(1-D17)*'Your portfolio'!B17*'Your portfolio'!B29+D17*'Your portfolio'!B17*'Your portfolio'!B31),0) -> 0
A18: 14 | B18: =IF(E17<0,D17,B17) -> 0.001 | C18: =IF(E17<0,C17,D17) -> 0.001036499 | D18: =(B18+C18)/2 -> 0.0010182495 | E18: =IF(ISNUMBER('Your portfolio'!B38),'Your portfolio'!B23-(MAX(IF('Your portfolio'!B33=1,0.1,0.15),12.5*IF((1)<=('Your portfolio'!B22),1,IF((D18)>=('Your portfolio'!B22),(EXP((-1/(('Your portfolio'!B38)*('Your portfolio'!B22)))*((1)-('Your portfolio'!B22)))-EXP((-1/(('Your portfolio'!B38)*('Your portfolio'!B22)))*MAX((D18)-('Your portfolio'!B22),0)))/((-1/(('Your portfolio'!B38)*('Your portfolio'!B22)))*(((1)-('Your portfolio'!B22))-MAX((D18)-('Your portfolio'!B22),0))),(('Your portfolio'!B22)-(D18))/((1)-(D18))+(1-(('Your portfolio'!B22)-(D18))/((1)-(D18)))*(EXP((-1/(('Your portfolio'!B38)*('Your portfolio'!B22)))*((1)-('Your portfolio'!B22)))-EXP((-1/(('Your portfolio'!B38)*('Your portfolio'!B22)))*MAX(('Your portfolio'!B22)-('Your portfolio'!B22),0)))/((-1/(('Your portfolio'!B38)*('Your portfolio'!B22)))*(((1)-('Your portfolio'!B22))-MAX(('Your portfolio'!B22)-('Your portfolio'!B22),0))))))*(1-D18)*'Your portfolio'!B17*'Your portfolio'!B29+D18*'Your portfolio'!B17*'Your portfolio'!B31),0) -> 0
A19: 15 | B19: =IF(E18<0,D18,B18) -> 0.001 | C19: =IF(E18<0,C18,D18) -> 0.0010182495 | D19: =(B19+C19)/2 -> 0.0010091248 | E19: =IF(ISNUMBER('Your portfolio'!B38),'Your portfolio'!B23-(MAX(IF('Your portfolio'!B33=1,0.1,0.15),12.5*IF((1)<=('Your portfolio'!B22),1,IF((D19)>=('Your portfolio'!B22),(EXP((-1/(('Your portfolio'!B38)*('Your portfolio'!B22)))*((1)-('Your portfolio'!B22)))-EXP((-1/(('Your portfolio'!B38)*('Your portfolio'!B22)))*MAX((D19)-('Your portfolio'!B22),0)))/((-1/(('Your portfolio'!B38)*('Your portfolio'!B22)))*(((1)-('Your portfolio'!B22))-MAX((D19)-('Your portfolio'!B22),0))),(('Your portfolio'!B22)-(D19))/((1)-(D19))+(1-(('Your portfolio'!B22)-(D19))/((1)-(D19)))*(EXP((-1/(('Your portfolio'!B38)*('Your portfolio'!B22)))*((1)-('Your portfolio'!B22)))-EXP((-1/(('Your portfolio'!B38)*('Your portfolio'!B22)))*MAX(('Your portfolio'!B22)-('Your portfolio'!B22),0)))/((-1/(('Your portfolio'!B38)*('Your portfolio'!B22)))*(((1)-('Your portfolio'!B22))-MAX(('Your portfolio'!B22)-('Your portfolio'!B22),0))))))*(1-D19)*'Your portfolio'!B17*'Your portfolio'!B29+D19*'Your portfolio'!B17*'Your portfolio'!B31),0) -> 0
A20: 16 | B20: =IF(E19<0,D19,B19) -> 0.001 | C20: =IF(E19<0,C19,D19) -> 0.0010091248 | D20: =(B20+C20)/2 -> 0.0010045624 | E20: =IF(ISNUMBER('Your portfolio'!B38),'Your portfolio'!B23-(MAX(IF('Your portfolio'!B33=1,0.1,0.15),12.5*IF((1)<=('Your portfolio'!B22),1,IF((D20)>=('Your portfolio'!B22),(EXP((-1/(('Your portfolio'!B38)*('Your portfolio'!B22)))*((1)-('Your portfolio'!B22)))-EXP((-1/(('Your portfolio'!B38)*('Your portfolio'!B22)))*MAX((D20)-('Your portfolio'!B22),0)))/((-1/(('Your portfolio'!B38)*('Your portfolio'!B22)))*(((1)-('Your portfolio'!B22))-MAX((D20)-('Your portfolio'!B22),0))),(('Your portfolio'!B22)-(D20))/((1)-(D20))+(1-(('Your portfolio'!B22)-(D20))/((1)-(D20)))*(EXP((-1/(('Your portfolio'!B38)*('Your portfolio'!B22)))*((1)-('Your portfolio'!B22)))-EXP((-1/(('Your portfolio'!B38)*('Your portfolio'!B22)))*MAX(('Your portfolio'!B22)-('Your portfolio'!B22),0)))/((-1/(('Your portfolio'!B38)*('Your portfolio'!B22)))*(((1)-('Your portfolio'!B22))-MAX(('Your portfolio'!B22)-('Your portfolio'!B22),0))))))*(1-D20)*'Your portfolio'!B17*'Your portfolio'!B29+D20*'Your portfolio'!B17*'Your portfolio'!B31),0) -> 0
A21: 17 | B21: =IF(E20<0,D20,B20) -> 0.001 | C21: =IF(E20<0,C20,D20) -> 0.0010045624 | D21: =(B21+C21)/2 -> 0.0010022812 | E21: =IF(ISNUMBER('Your portfolio'!B38),'Your portfolio'!B23-(MAX(IF('Your portfolio'!B33=1,0.1,0.15),12.5*IF((1)<=('Your portfolio'!B22),1,IF((D21)>=('Your portfolio'!B22),(EXP((-1/(('Your portfolio'!B38)*('Your portfolio'!B22)))*((1)-('Your portfolio'!B22)))-EXP((-1/(('Your portfolio'!B38)*('Your portfolio'!B22)))*MAX((D21)-('Your portfolio'!B22),0)))/((-1/(('Your portfolio'!B38)*('Your portfolio'!B22)))*(((1)-('Your portfolio'!B22))-MAX((D21)-('Your portfolio'!B22),0))),(('Your portfolio'!B22)-(D21))/((1)-(D21))+(1-(('Your portfolio'!B22)-(D21))/((1)-(D21)))*(EXP((-1/(('Your portfolio'!B38)*('Your portfolio'!B22)))*((1)-('Your portfolio'!B22)))-EXP((-1/(('Your portfolio'!B38)*('Your portfolio'!B22)))*MAX(('Your portfolio'!B22)-('Your portfolio'!B22),0)))/((-1/(('Your portfolio'!B38)*('Your portfolio'!B22)))*(((1)-('Your portfolio'!B22))-MAX(('Your portfolio'!B22)-('Your portfolio'!B22),0))))))*(1-D21)*'Your portfolio'!B17*'Your portfolio'!B29+D21*'Your portfolio'!B17*'Your portfolio'!B31),0) -> 0
A22: 18 | B22: =IF(E21<0,D21,B21) -> 0.001 | C22: =IF(E21<0,C21,D21) -> 0.0010022812 | D22: =(B22+C22)/2 -> 0.0010011406 | E22: =IF(ISNUMBER('Your portfolio'!B38),'Your portfolio'!B23-(MAX(IF('Your portfolio'!B33=1,0.1,0.15),12.5*IF((1)<=('Your portfolio'!B22),1,IF((D22)>=('Your portfolio'!B22),(EXP((-1/(('Your portfolio'!B38)*('Your portfolio'!B22)))*((1)-('Your portfolio'!B22)))-EXP((-1/(('Your portfolio'!B38)*('Your portfolio'!B22)))*MAX((D22)-('Your portfolio'!B22),0)))/((-1/(('Your portfolio'!B38)*('Your portfolio'!B22)))*(((1)-('Your portfolio'!B22))-MAX((D22)-('Your portfolio'!B22),0))),(('Your portfolio'!B22)-(D22))/((1)-(D22))+(1-(('Your portfolio'!B22)-(D22))/((1)-(D22)))*(EXP((-1/(('Your portfolio'!B38)*('Your portfolio'!B22)))*((1)-('Your portfolio'!B22)))-EXP((-1/(('Your portfolio'!B38)*('Your portfolio'!B22)))*MAX(('Your portfolio'!B22)-('Your portfolio'!B22),0)))/((-1/(('Your portfolio'!B38)*('Your portfolio'!B22)))*(((1)-('Your portfolio'!B22))-MAX(('Your portfolio'!B22)-('Your portfolio'!B22),0))))))*(1-D22)*'Your portfolio'!B17*'Your portfolio'!B29+D22*'Your portfolio'!B17*'Your portfolio'!B31),0) -> 0
A23: 19 | B23: =IF(E22<0,D22,B22) -> 0.001 | C23: =IF(E22<0,C22,D22) -> 0.0010011406 | D23: =(B23+C23)/2 -> 0.0010005703 | E23: =IF(ISNUMBER('Your portfolio'!B38),'Your portfolio'!B23-(MAX(IF('Your portfolio'!B33=1,0.1,0.15),12.5*IF((1)<=('Your portfolio'!B22),1,IF((D23)>=('Your portfolio'!B22),(EXP((-1/(('Your portfolio'!B38)*('Your portfolio'!B22)))*((1)-('Your portfolio'!B22)))-EXP((-1/(('Your portfolio'!B38)*('Your portfolio'!B22)))*MAX((D23)-('Your portfolio'!B22),0)))/((-1/(('Your portfolio'!B38)*('Your portfolio'!B22)))*(((1)-('Your portfolio'!B22))-MAX((D23)-('Your portfolio'!B22),0))),(('Your portfolio'!B22)-(D23))/((1)-(D23))+(1-(('Your portfolio'!B22)-(D23))/((1)-(D23)))*(EXP((-1/(('Your portfolio'!B38)*('Your portfolio'!B22)))*((1)-('Your portfolio'!B22)))-EXP((-1/(('Your portfolio'!B38)*('Your portfolio'!B22)))*MAX(('Your portfolio'!B22)-('Your portfolio'!B22),0)))/((-1/(('Your portfolio'!B38)*('Your portfolio'!B22)))*(((1)-('Your portfolio'!B22))-MAX(('Your portfolio'!B22)-('Your portfolio'!B22),0))))))*(1-D23)*'Your portfolio'!B17*'Your portfolio'!B29+D23*'Your portfolio'!B17*'Your portfolio'!B31),0) -> 0
A24: 20 | B24: =IF(E23<0,D23,B23) -> 0.001 | C24: =IF(E23<0,C23,D23) -> 0.0010005703 | D24: =(B24+C24)/2 -> 0.0010002851 | E24: =IF(ISNUMBER('Your portfolio'!B38),'Your portfolio'!B23-(MAX(IF('Your portfolio'!B33=1,0.1,0.15),12.5*IF((1)<=('Your portfolio'!B22),1,IF((D24)>=('Your portfolio'!B22),(EXP((-1/(('Your portfolio'!B38)*('Your portfolio'!B22)))*((1)-('Your portfolio'!B22)))-EXP((-1/(('Your portfolio'!B38)*('Your portfolio'!B22)))*MAX((D24)-('Your portfolio'!B22),0)))/((-1/(('Your portfolio'!B38)*('Your portfolio'!B22)))*(((1)-('Your portfolio'!B22))-MAX((D24)-('Your portfolio'!B22),0))),(('Your portfolio'!B22)-(D24))/((1)-(D24))+(1-(('Your portfolio'!B22)-(D24))/((1)-(D24)))*(EXP((-1/(('Your portfolio'!B38)*('Your portfolio'!B22)))*((1)-('Your portfolio'!B22)))-EXP((-1/(('Your portfolio'!B38)*('Your portfolio'!B22)))*MAX(('Your portfolio'!B22)-('Your portfolio'!B22),0)))/((-1/(('Your portfolio'!B38)*('Your portfolio'!B22)))*(((1)-('Your portfolio'!B22))-MAX(('Your portfolio'!B22)-('Your portfolio'!B22),0))))))*(1-D24)*'Your portfolio'!B17*'Your portfolio'!B29+D24*'Your portfolio'!B17*'Your portfolio'!B31),0) -> 0
A25: 21 | B25: =IF(E24<0,D24,B24) -> 0.001 | C25: =IF(E24<0,C24,D24) -> 0.0010002851 | D25: =(B25+C25)/2 -> 0.0010001426 | E25: =IF(ISNUMBER('Your portfolio'!B38),'Your portfolio'!B23-(MAX(IF('Your portfolio'!B33=1,0.1,0.15),12.5*IF((1)<=('Your portfolio'!B22),1,IF((D25)>=('Your portfolio'!B22),(EXP((-1/(('Your portfolio'!B38)*('Your portfolio'!B22)))*((1)-('Your portfolio'!B22)))-EXP((-1/(('Your portfolio'!B38)*('Your portfolio'!B22)))*MAX((D25)-('Your portfolio'!B22),0)))/((-1/(('Your portfolio'!B38)*('Your portfolio'!B22)))*(((1)-('Your portfolio'!B22))-MAX((D25)-('Your portfolio'!B22),0))),(('Your portfolio'!B22)-(D25))/((1)-(D25))+(1-(('Your portfolio'!B22)-(D25))/((1)-(D25)))*(EXP((-1/(('Your portfolio'!B38)*('Your portfolio'!B22)))*((1)-('Your portfolio'!B22)))-EXP((-1/(('Your portfolio'!B38)*('Your portfolio'!B22)))*MAX(('Your portfolio'!B22)-('Your portfolio'!B22),0)))/((-1/(('Your portfolio'!B38)*('Your portfolio'!B22)))*(((1)-('Your portfolio'!B22))-MAX(('Your portfolio'!B22)-('Your portfolio'!B22),0))))))*(1-D25)*'Your portfolio'!B17*'Your portfolio'!B29+D25*'Your portfolio'!B17*'Your portfolio'!B31),0) -> 0
A26: 22 | B26: =IF(E25<0,D25,B25) -> 0.001 | C26: =IF(E25<0,C25,D25) -> 0.0010001426 | D26: =(B26+C26)/2 -> 0.0010000713 | E26: =IF(ISNUMBER('Your portfolio'!B38),'Your portfolio'!B23-(MAX(IF('Your portfolio'!B33=1,0.1,0.15),12.5*IF((1)<=('Your portfolio'!B22),1,IF((D26)>=('Your portfolio'!B22),(EXP((-1/(('Your portfolio'!B38)*('Your portfolio'!B22)))*((1)-('Your portfolio'!B22)))-EXP((-1/(('Your portfolio'!B38)*('Your portfolio'!B22)))*MAX((D26)-('Your portfolio'!B22),0)))/((-1/(('Your portfolio'!B38)*('Your portfolio'!B22)))*(((1)-('Your portfolio'!B22))-MAX((D26)-('Your portfolio'!B22),0))),(('Your portfolio'!B22)-(D26))/((1)-(D26))+(1-(('Your portfolio'!B22)-(D26))/((1)-(D26)))*(EXP((-1/(('Your portfolio'!B38)*('Your portfolio'!B22)))*((1)-('Your portfolio'!B22)))-EXP((-1/(('Your portfolio'!B38)*('Your portfolio'!B22)))*MAX(('Your portfolio'!B22)-('Your portfolio'!B22),0)))/((-1/(('Your portfolio'!B38)*('Your portfolio'!B22)))*(((1)-('Your portfolio'!B22))-MAX(('Your portfolio'!B22)-('Your portfolio'!B22),0))))))*(1-D26)*'Your portfolio'!B17*'Your portfolio'!B29+D26*'Your portfolio'!B17*'Your portfolio'!B31),0) -> 0
A27: 23 | B27: =IF(E26<0,D26,B26) -> 0.001 | C27: =IF(E26<0,C26,D26) -> 0.0010000713 | D27: =(B27+C27)/2 -> 0.0010000356 | E27: =IF(ISNUMBER('Your portfolio'!B38),'Your portfolio'!B23-(MAX(IF('Your portfolio'!B33=1,0.1,0.15),12.5*IF((1)<=('Your portfolio'!B22),1,IF((D27)>=('Your portfolio'!B22),(EXP((-1/(('Your portfolio'!B38)*('Your portfolio'!B22)))*((1)-('Your portfolio'!B22)))-EXP((-1/(('Your portfolio'!B38)*('Your portfolio'!B22)))*MAX((D27)-('Your portfolio'!B22),0)))/((-1/(('Your portfolio'!B38)*('Your portfolio'!B22)))*(((1)-('Your portfolio'!B22))-MAX((D27)-('Your portfolio'!B22),0))),(('Your portfolio'!B22)-(D27))/((1)-(D27))+(1-(('Your portfolio'!B22)-(D27))/((1)-(D27)))*(EXP((-1/(('Your portfolio'!B38)*('Your portfolio'!B22)))*((1)-('Your portfolio'!B22)))-EXP((-1/(('Your portfolio'!B38)*('Your portfolio'!B22)))*MAX(('Your portfolio'!B22)-('Your portfolio'!B22),0)))/((-1/(('Your portfolio'!B38)*('Your portfolio'!B22)))*(((1)-('Your portfolio'!B22))-MAX(('Your portfolio'!B22)-('Your portfolio'!B22),0))))))*(1-D27)*'Your portfolio'!B17*'Your portfolio'!B29+D27*'Your portfolio'!B17*'Your portfolio'!B31),0) -> 0
A28: 24 | B28: =IF(E27<0,D27,B27) -> 0.001 | C28: =IF(E27<0,C27,D27) -> 0.0010000356 | D28: =(B28+C28)/2 -> 0.0010000178 | E28: =IF(ISNUMBER('Your portfolio'!B38),'Your portfolio'!B23-(MAX(IF('Your portfolio'!B33=1,0.1,0.15),12.5*IF((1)<=('Your portfolio'!B22),1,IF((D28)>=('Your portfolio'!B22),(EXP((-1/(('Your portfolio'!B38)*('Your portfolio'!B22)))*((1)-('Your portfolio'!B22)))-EXP((-1/(('Your portfolio'!B38)*('Your portfolio'!B22)))*MAX((D28)-('Your portfolio'!B22),0)))/((-1/(('Your portfolio'!B38)*('Your portfolio'!B22)))*(((1)-('Your portfolio'!B22))-MAX((D28)-('Your portfolio'!B22),0))),(('Your portfolio'!B22)-(D28))/((1)-(D28))+(1-(('Your portfolio'!B22)-(D28))/((1)-(D28)))*(EXP((-1/(('Your portfolio'!B38)*('Your portfolio'!B22)))*((1)-('Your portfolio'!B22)))-EXP((-1/(('Your portfolio'!B38)*('Your portfolio'!B22)))*MAX(('Your portfolio'!B22)-('Your portfolio'!B22),0)))/((-1/(('Your portfolio'!B38)*('Your portfolio'!B22)))*(((1)-('Your portfolio'!B22))-MAX(('Your portfolio'!B22)-('Your portfolio'!B22),0))))))*(1-D28)*'Your portfolio'!B17*'Your portfolio'!B29+D28*'Your portfolio'!B17*'Your portfolio'!B31),0) -> 0
A29: 25 | B29: =IF(E28<0,D28,B28) -> 0.001 | C29: =IF(E28<0,C28,D28) -> 0.0010000178 | D29: =(B29+C29)/2 -> 0.0010000089 | E29: =IF(ISNUMBER('Your portfolio'!B38),'Your portfolio'!B23-(MAX(IF('Your portfolio'!B33=1,0.1,0.15),12.5*IF((1)<=('Your portfolio'!B22),1,IF((D29)>=('Your portfolio'!B22),(EXP((-1/(('Your portfolio'!B38)*('Your portfolio'!B22)))*((1)-('Your portfolio'!B22)))-EXP((-1/(('Your portfolio'!B38)*('Your portfolio'!B22)))*MAX((D29)-('Your portfolio'!B22),0)))/((-1/(('Your portfolio'!B38)*('Your portfolio'!B22)))*(((1)-('Your portfolio'!B22))-MAX((D29)-('Your portfolio'!B22),0))),(('Your portfolio'!B22)-(D29))/((1)-(D29))+(1-(('Your portfolio'!B22)-(D29))/((1)-(D29)))*(EXP((-1/(('Your portfolio'!B38)*('Your portfolio'!B22)))*((1)-('Your portfolio'!B22)))-EXP((-1/(('Your portfolio'!B38)*('Your portfolio'!B22)))*MAX(('Your portfolio'!B22)-('Your portfolio'!B22),0)))/((-1/(('Your portfolio'!B38)*('Your portfolio'!B22)))*(((1)-('Your portfolio'!B22))-MAX(('Your portfolio'!B22)-('Your portfolio'!B22),0))))))*(1-D29)*'Your portfolio'!B17*'Your portfolio'!B29+D29*'Your portfolio'!B17*'Your portfolio'!B31),0) -> 0
A30: 26 | B30: =IF(E29<0,D29,B29) -> 0.001 | C30: =IF(E29<0,C29,D29) -> 0.0010000089 | D30: =(B30+C30)/2 -> 0.0010000045 | E30: =IF(ISNUMBER('Your portfolio'!B38),'Your portfolio'!B23-(MAX(IF('Your portfolio'!B33=1,0.1,0.15),12.5*IF((1)<=('Your portfolio'!B22),1,IF((D30)>=('Your portfolio'!B22),(EXP((-1/(('Your portfolio'!B38)*('Your portfolio'!B22)))*((1)-('Your portfolio'!B22)))-EXP((-1/(('Your portfolio'!B38)*('Your portfolio'!B22)))*MAX((D30)-('Your portfolio'!B22),0)))/((-1/(('Your portfolio'!B38)*('Your portfolio'!B22)))*(((1)-('Your portfolio'!B22))-MAX((D30)-('Your portfolio'!B22),0))),(('Your portfolio'!B22)-(D30))/((1)-(D30))+(1-(('Your portfolio'!B22)-(D30))/((1)-(D30)))*(EXP((-1/(('Your portfolio'!B38)*('Your portfolio'!B22)))*((1)-('Your portfolio'!B22)))-EXP((-1/(('Your portfolio'!B38)*('Your portfolio'!B22)))*MAX(('Your portfolio'!B22)-('Your portfolio'!B22),0)))/((-1/(('Your portfolio'!B38)*('Your portfolio'!B22)))*(((1)-('Your portfolio'!B22))-MAX(('Your portfolio'!B22)-('Your portfolio'!B22),0))))))*(1-D30)*'Your portfolio'!B17*'Your portfolio'!B29+D30*'Your portfolio'!B17*'Your portfolio'!B31),0) -> 0
A31: 27 | B31: =IF(E30<0,D30,B30) -> 0.001 | C31: =IF(E30<0,C30,D30) -> 0.0010000045 | D31: =(B31+C31)/2 -> 0.0010000022 | E31: =IF(ISNUMBER('Your portfolio'!B38),'Your portfolio'!B23-(MAX(IF('Your portfolio'!B33=1,0.1,0.15),12.5*IF((1)<=('Your portfolio'!B22),1,IF((D31)>=('Your portfolio'!B22),(EXP((-1/(('Your portfolio'!B38)*('Your portfolio'!B22)))*((1)-('Your portfolio'!B22)))-EXP((-1/(('Your portfolio'!B38)*('Your portfolio'!B22)))*MAX((D31)-('Your portfolio'!B22),0)))/((-1/(('Your portfolio'!B38)*('Your portfolio'!B22)))*(((1)-('Your portfolio'!B22))-MAX((D31)-('Your portfolio'!B22),0))),(('Your portfolio'!B22)-(D31))/((1)-(D31))+(1-(('Your portfolio'!B22)-(D31))/((1)-(D31)))*(EXP((-1/(('Your portfolio'!B38)*('Your portfolio'!B22)))*((1)-('Your portfolio'!B22)))-EXP((-1/(('Your portfolio'!B38)*('Your portfolio'!B22)))*MAX(('Your portfolio'!B22)-('Your portfolio'!B22),0)))/((-1/(('Your portfolio'!B38)*('Your portfolio'!B22)))*(((1)-('Your portfolio'!B22))-MAX(('Your portfolio'!B22)-('Your portfolio'!B22),0))))))*(1-D31)*'Your portfolio'!B17*'Your portfolio'!B29+D31*'Your portfolio'!B17*'Your portfolio'!B31),0) -> 0
A32: 28 | B32: =IF(E31<0,D31,B31) -> 0.001 | C32: =IF(E31<0,C31,D31) -> 0.0010000022 | D32: =(B32+C32)/2 -> 0.0010000011 | E32: =IF(ISNUMBER('Your portfolio'!B38),'Your portfolio'!B23-(MAX(IF('Your portfolio'!B33=1,0.1,0.15),12.5*IF((1)<=('Your portfolio'!B22),1,IF((D32)>=('Your portfolio'!B22),(EXP((-1/(('Your portfolio'!B38)*('Your portfolio'!B22)))*((1)-('Your portfolio'!B22)))-EXP((-1/(('Your portfolio'!B38)*('Your portfolio'!B22)))*MAX((D32)-('Your portfolio'!B22),0)))/((-1/(('Your portfolio'!B38)*('Your portfolio'!B22)))*(((1)-('Your portfolio'!B22))-MAX((D32)-('Your portfolio'!B22),0))),(('Your portfolio'!B22)-(D32))/((1)-(D32))+(1-(('Your portfolio'!B22)-(D32))/((1)-(D32)))*(EXP((-1/(('Your portfolio'!B38)*('Your portfolio'!B22)))*((1)-('Your portfolio'!B22)))-EXP((-1/(('Your portfolio'!B38)*('Your portfolio'!B22)))*MAX(('Your portfolio'!B22)-('Your portfolio'!B22),0)))/((-1/(('Your portfolio'!B38)*('Your portfolio'!B22)))*(((1)-('Your portfolio'!B22))-MAX(('Your portfolio'!B22)-('Your portfolio'!B22),0))))))*(1-D32)*'Your portfolio'!B17*'Your portfolio'!B29+D32*'Your portfolio'!B17*'Your portfolio'!B31),0) -> 0
A33: 29 | B33: =IF(E32<0,D32,B32) -> 0.001 | C33: =IF(E32<0,C32,D32) -> 0.0010000011 | D33: =(B33+C33)/2 -> 0.0010000006 | E33: =IF(ISNUMBER('Your portfolio'!B38),'Your portfolio'!B23-(MAX(IF('Your portfolio'!B33=1,0.1,0.15),12.5*IF((1)<=('Your portfolio'!B22),1,IF((D33)>=('Your portfolio'!B22),(EXP((-1/(('Your portfolio'!B38)*('Your portfolio'!B22)))*((1)-('Your portfolio'!B22)))-EXP((-1/(('Your portfolio'!B38)*('Your portfolio'!B22)))*MAX((D33)-('Your portfolio'!B22),0)))/((-1/(('Your portfolio'!B38)*('Your portfolio'!B22)))*(((1)-('Your portfolio'!B22))-MAX((D33)-('Your portfolio'!B22),0))),(('Your portfolio'!B22)-(D33))/((1)-(D33))+(1-(('Your portfolio'!B22)-(D33))/((1)-(D33)))*(EXP((-1/(('Your portfolio'!B38)*('Your portfolio'!B22)))*((1)-('Your portfolio'!B22)))-EXP((-1/(('Your portfolio'!B38)*('Your portfolio'!B22)))*MAX(('Your portfolio'!B22)-('Your portfolio'!B22),0)))/((-1/(('Your portfolio'!B38)*('Your portfolio'!B22)))*(((1)-('Your portfolio'!B22))-MAX(('Your portfolio'!B22)-('Your portfolio'!B22),0))))))*(1-D33)*'Your portfolio'!B17*'Your portfolio'!B29+D33*'Your portfolio'!B17*'Your portfolio'!B31),0) -> 0
A34: 30 | B34: =IF(E33<0,D33,B33) -> 0.001 | C34: =IF(E33<0,C33,D33) -> 0.0010000006 | D34: =(B34+C34)/2 -> 0.0010000003 | E34: =IF(ISNUMBER('Your portfolio'!B38),'Your portfolio'!B23-(MAX(IF('Your portfolio'!B33=1,0.1,0.15),12.5*IF((1)<=('Your portfolio'!B22),1,IF((D34)>=('Your portfolio'!B22),(EXP((-1/(('Your portfolio'!B38)*('Your portfolio'!B22)))*((1)-('Your portfolio'!B22)))-EXP((-1/(('Your portfolio'!B38)*('Your portfolio'!B22)))*MAX((D34)-('Your portfolio'!B22),0)))/((-1/(('Your portfolio'!B38)*('Your portfolio'!B22)))*(((1)-('Your portfolio'!B22))-MAX((D34)-('Your portfolio'!B22),0))),(('Your portfolio'!B22)-(D34))/((1)-(D34))+(1-(('Your portfolio'!B22)-(D34))/((1)-(D34)))*(EXP((-1/(('Your portfolio'!B38)*('Your portfolio'!B22)))*((1)-('Your portfolio'!B22)))-EXP((-1/(('Your portfolio'!B38)*('Your portfolio'!B22)))*MAX(('Your portfolio'!B22)-('Your portfolio'!B22),0)))/((-1/(('Your portfolio'!B38)*('Your portfolio'!B22)))*(((1)-('Your portfolio'!B22))-MAX(('Your portfolio'!B22)-('Your portfolio'!B22),0))))))*(1-D34)*'Your portfolio'!B17*'Your portfolio'!B29+D34*'Your portfolio'!B17*'Your portfolio'!B31),0) -> 0
A35: 31 | B35: =IF(E34<0,D34,B34) -> 0.001 | C35: =IF(E34<0,C34,D34) -> 0.0010000003 | D35: =(B35+C35)/2 -> 0.0010000001 | E35: =IF(ISNUMBER('Your portfolio'!B38),'Your portfolio'!B23-(MAX(IF('Your portfolio'!B33=1,0.1,0.15),12.5*IF((1)<=('Your portfolio'!B22),1,IF((D35)>=('Your portfolio'!B22),(EXP((-1/(('Your portfolio'!B38)*('Your portfolio'!B22)))*((1)-('Your portfolio'!B22)))-EXP((-1/(('Your portfolio'!B38)*('Your portfolio'!B22)))*MAX((D35)-('Your portfolio'!B22),0)))/((-1/(('Your portfolio'!B38)*('Your portfolio'!B22)))*(((1)-('Your portfolio'!B22))-MAX((D35)-('Your portfolio'!B22),0))),(('Your portfolio'!B22)-(D35))/((1)-(D35))+(1-(('Your portfolio'!B22)-(D35))/((1)-(D35)))*(EXP((-1/(('Your portfolio'!B38)*('Your portfolio'!B22)))*((1)-('Your portfolio'!B22)))-EXP((-1/(('Your portfolio'!B38)*('Your portfolio'!B22)))*MAX(('Your portfolio'!B22)-('Your portfolio'!B22),0)))/((-1/(('Your portfolio'!B38)*('Your portfolio'!B22)))*(((1)-('Your portfolio'!B22))-MAX(('Your portfolio'!B22)-('Your portfolio'!B22),0))))))*(1-D35)*'Your portfolio'!B17*'Your portfolio'!B29+D35*'Your portfolio'!B17*'Your portfolio'!B31),0) -> 0
A36: 32 | B36: =IF(E35<0,D35,B35) -> 0.001 | C36: =IF(E35<0,C35,D35) -> 0.0010000001 | D36: =(B36+C36)/2 -> 0.0010000001 | E36: =IF(ISNUMBER('Your portfolio'!B38),'Your portfolio'!B23-(MAX(IF('Your portfolio'!B33=1,0.1,0.15),12.5*IF((1)<=('Your portfolio'!B22),1,IF((D36)>=('Your portfolio'!B22),(EXP((-1/(('Your portfolio'!B38)*('Your portfolio'!B22)))*((1)-('Your portfolio'!B22)))-EXP((-1/(('Your portfolio'!B38)*('Your portfolio'!B22)))*MAX((D36)-('Your portfolio'!B22),0)))/((-1/(('Your portfolio'!B38)*('Your portfolio'!B22)))*(((1)-('Your portfolio'!B22))-MAX((D36)-('Your portfolio'!B22),0))),(('Your portfolio'!B22)-(D36))/((1)-(D36))+(1-(('Your portfolio'!B22)-(D36))/((1)-(D36)))*(EXP((-1/(('Your portfolio'!B38)*('Your portfolio'!B22)))*((1)-('Your portfolio'!B22)))-EXP((-1/(('Your portfolio'!B38)*('Your portfolio'!B22)))*MAX(('Your portfolio'!B22)-('Your portfolio'!B22),0)))/((-1/(('Your portfolio'!B38)*('Your portfolio'!B22)))*(((1)-('Your portfolio'!B22))-MAX(('Your portfolio'!B22)-('Your portfolio'!B22),0))))))*(1-D36)*'Your portfolio'!B17*'Your portfolio'!B29+D36*'Your portfolio'!B17*'Your portfolio'!B31),0) -> 0
A37: 33 | B37: =IF(E36<0,D36,B36) -> 0.001 | C37: =IF(E36<0,C36,D36) -> 0.0010000001 | D37: =(B37+C37)/2 -> 0.001 | E37: =IF(ISNUMBER('Your portfolio'!B38),'Your portfolio'!B23-(MAX(IF('Your portfolio'!B33=1,0.1,0.15),12.5*IF((1)<=('Your portfolio'!B22),1,IF((D37)>=('Your portfolio'!B22),(EXP((-1/(('Your portfolio'!B38)*('Your portfolio'!B22)))*((1)-('Your portfolio'!B22)))-EXP((-1/(('Your portfolio'!B38)*('Your portfolio'!B22)))*MAX((D37)-('Your portfolio'!B22),0)))/((-1/(('Your portfolio'!B38)*('Your portfolio'!B22)))*(((1)-('Your portfolio'!B22))-MAX((D37)-('Your portfolio'!B22),0))),(('Your portfolio'!B22)-(D37))/((1)-(D37))+(1-(('Your portfolio'!B22)-(D37))/((1)-(D37)))*(EXP((-1/(('Your portfolio'!B38)*('Your portfolio'!B22)))*((1)-('Your portfolio'!B22)))-EXP((-1/(('Your portfolio'!B38)*('Your portfolio'!B22)))*MAX(('Your portfolio'!B22)-('Your portfolio'!B22),0)))/((-1/(('Your portfolio'!B38)*('Your portfolio'!B22)))*(((1)-('Your portfolio'!B22))-MAX(('Your portfolio'!B22)-('Your portfolio'!B22),0))))))*(1-D37)*'Your portfolio'!B17*'Your portfolio'!B29+D37*'Your portfolio'!B17*'Your portfolio'!B31),0) -> 0
A38: 34 | B38: =IF(E37<0,D37,B37) -> 0.001 | C38: =IF(E37<0,C37,D37) -> 0.001 | D38: =(B38+C38)/2 -> 0.001 | E38: =IF(ISNUMBER('Your portfolio'!B38),'Your portfolio'!B23-(MAX(IF('Your portfolio'!B33=1,0.1,0.15),12.5*IF((1)<=('Your portfolio'!B22),1,IF((D38)>=('Your portfolio'!B22),(EXP((-1/(('Your portfolio'!B38)*('Your portfolio'!B22)))*((1)-('Your portfolio'!B22)))-EXP((-1/(('Your portfolio'!B38)*('Your portfolio'!B22)))*MAX((D38)-('Your portfolio'!B22),0)))/((-1/(('Your portfolio'!B38)*('Your portfolio'!B22)))*(((1)-('Your portfolio'!B22))-MAX((D38)-('Your portfolio'!B22),0))),(('Your portfolio'!B22)-(D38))/((1)-(D38))+(1-(('Your portfolio'!B22)-(D38))/((1)-(D38)))*(EXP((-1/(('Your portfolio'!B38)*('Your portfolio'!B22)))*((1)-('Your portfolio'!B22)))-EXP((-1/(('Your portfolio'!B38)*('Your portfolio'!B22)))*MAX(('Your portfolio'!B22)-('Your portfolio'!B22),0)))/((-1/(('Your portfolio'!B38)*('Your portfolio'!B22)))*(((1)-('Your portfolio'!B22))-MAX(('Your portfolio'!B22)-('Your portfolio'!B22),0))))))*(1-D38)*'Your portfolio'!B17*'Your portfolio'!B29+D38*'Your portfolio'!B17*'Your portfolio'!B31),0) -> 0
A39: 35 | B39: =IF(E38<0,D38,B38) -> 0.001 | C39: =IF(E38<0,C38,D38) -> 0.001 | D39: =(B39+C39)/2 -> 0.001 | E39: =IF(ISNUMBER('Your portfolio'!B38),'Your portfolio'!B23-(MAX(IF('Your portfolio'!B33=1,0.1,0.15),12.5*IF((1)<=('Your portfolio'!B22),1,IF((D39)>=('Your portfolio'!B22),(EXP((-1/(('Your portfolio'!B38)*('Your portfolio'!B22)))*((1)-('Your portfolio'!B22)))-EXP((-1/(('Your portfolio'!B38)*('Your portfolio'!B22)))*MAX((D39)-('Your portfolio'!B22),0)))/((-1/(('Your portfolio'!B38)*('Your portfolio'!B22)))*(((1)-('Your portfolio'!B22))-MAX((D39)-('Your portfolio'!B22),0))),(('Your portfolio'!B22)-(D39))/((1)-(D39))+(1-(('Your portfolio'!B22)-(D39))/((1)-(D39)))*(EXP((-1/(('Your portfolio'!B38)*('Your portfolio'!B22)))*((1)-('Your portfolio'!B22)))-EXP((-1/(('Your portfolio'!B38)*('Your portfolio'!B22)))*MAX(('Your portfolio'!B22)-('Your portfolio'!B22),0)))/((-1/(('Your portfolio'!B38)*('Your portfolio'!B22)))*(((1)-('Your portfolio'!B22))-MAX(('Your portfolio'!B22)-('Your portfolio'!B22),0))))))*(1-D39)*'Your portfolio'!B17*'Your portfolio'!B29+D39*'Your portfolio'!B17*'Your portfolio'!B31),0) -> 0
A40: 36 | B40: =IF(E39<0,D39,B39) -> 0.001 | C40: =IF(E39<0,C39,D39) -> 0.001 | D40: =(B40+C40)/2 -> 0.001 | E40: =IF(ISNUMBER('Your portfolio'!B38),'Your portfolio'!B23-(MAX(IF('Your portfolio'!B33=1,0.1,0.15),12.5*IF((1)<=('Your portfolio'!B22),1,IF((D40)>=('Your portfolio'!B22),(EXP((-1/(('Your portfolio'!B38)*('Your portfolio'!B22)))*((1)-('Your portfolio'!B22)))-EXP((-1/(('Your portfolio'!B38)*('Your portfolio'!B22)))*MAX((D40)-('Your portfolio'!B22),0)))/((-1/(('Your portfolio'!B38)*('Your portfolio'!B22)))*(((1)-('Your portfolio'!B22))-MAX((D40)-('Your portfolio'!B22),0))),(('Your portfolio'!B22)-(D40))/((1)-(D40))+(1-(('Your portfolio'!B22)-(D40))/((1)-(D40)))*(EXP((-1/(('Your portfolio'!B38)*('Your portfolio'!B22)))*((1)-('Your portfolio'!B22)))-EXP((-1/(('Your portfolio'!B38)*('Your portfolio'!B22)))*MAX(('Your portfolio'!B22)-('Your portfolio'!B22),0)))/((-1/(('Your portfolio'!B38)*('Your portfolio'!B22)))*(((1)-('Your portfolio'!B22))-MAX(('Your portfolio'!B22)-('Your portfolio'!B22),0))))))*(1-D40)*'Your portfolio'!B17*'Your portfolio'!B29+D40*'Your portfolio'!B17*'Your portfolio'!B31),0) -> 0
