Workbook

Sheet Investor
A1: Northwall 2026-1 — the investor's return
A2: Enter a loss multiple and a margin. The internal rate of return falls out, with the investor's floor and both break-even multiples.
A4: Inputs
A5: Portfolio exposure | B5: 4000000000
A6: Detachment point | B6: 0.07
A7: Share sold to the investor | B7: 0.95
A8: Best-estimate loss rate, per year | B8: 0.0018223875
A9: Loss multiple (1 = best estimate) | B9: 1
A10: Margin | B10: 0.105
A11: Reference rate | B11: 0.025
A12: Replenishment period, years | B12: 2
A13: Portfolio amortisation, per year | B13: 0.08
A14: Fund leverage (debt / equity) | B14: 1.5
A15: Cost of leverage | B15: 0.0625
A16: Holding period, years (1 to 8; the book: 5) | B16: 5
... A18: Fund's unlevered hurdle | B18: 0.075
A20: Cash flows
A21: Year | B21: Reference pool | C21: Opening balance | D21: Coupon | E21: Lost to write-down | F21: Principal repaid | G21: Closing balance | H21: Cash flow
A22: 0 | B22: =$B$5 -> 4000000000 | H22: =-C23 -> -266000000
A23: 1 | B23: =IF(A23>$B$16,0,IF(A23<=$B$12,$B$5,$B$5*(1-$B$13)^(A23-$B$12))) -> 4000000000 | C23: =IF(A23>$B$16,0,$B$6*$B$5*$B$7) -> 266000000 | D23: =($B$11+$B$10)*C23 -> 34580000 | E23: =IF(A23>$B$16,0,MIN(C23,$B$8*$B$9*B23*$B$7)) -> 6925072.5 | F23: =IF(A23>$B$16,0,IF(A23=$B$16,C23-E23,IF($B$17=1,(C23-E23)*(1-B23/B22),0))) -> 0 | G23: =C23-E23-F23 -> 2.5907493e+08 | H23: =D23+F23 -> 34580000
A24: 2 | B24: =IF(A24>$B$16,0,IF(A24<=$B$12,$B$5,$B$5*(1-$B$13)^(A24-$B$12))) -> 4000000000 | C24: =IF(A24>$B$16,0,G23) -> 2.5907493e+08 | D24: =($B$11+$B$10)*C24 -> 33679741 | E24: =IF(A24>$B$16,0,MIN(C24,$B$8*$B$9*B24*$B$7)) -> 6925072.5 | F24: =IF(A24>$B$16,0,IF(A24=$B$16,C24-E24,IF($B$17=1,(C24-E24)*(1-B24/B23),0))) -> 0 | G24: =C24-E24-F24 -> 252149855 | H24: =D24+F24 -> 33679741
A25: 3 | B25: =IF(A25>$B$16,0,IF(A25<=$B$12,$B$5,$B$5*(1-$B$13)^(A25-$B$12))) -> 3680000000 | C25: =IF(A25>$B$16,0,G24) -> 252149855 | D25: =($B$11+$B$10)*C25 -> 32779481 | E25: =IF(A25>$B$16,0,MIN(C25,$B$8*$B$9*B25*$B$7)) -> 6371066.7 | F25: =IF(A25>$B$16,0,IF(A25=$B$16,C25-E25,IF($B$17=1,(C25-E25)*(1-B25/B24),0))) -> 19662303 | G25: =C25-E25-F25 -> 2.2611649e+08 | H25: =D25+F25 -> 52441784
A26: 4 | B26: =IF(A26>$B$16,0,IF(A26<=$B$12,$B$5,$B$5*(1-$B$13)^(A26-$B$12))) -> 3385600000 | C26: =IF(A26>$B$16,0,G25) -> 2.2611649e+08 | D26: =($B$11+$B$10)*C26 -> 29395143 | E26: =IF(A26>$B$16,0,MIN(C26,$B$8*$B$9*B26*$B$7)) -> 5861381.4 | F26: =IF(A26>$B$16,0,IF(A26=$B$16,C26-E26,IF($B$17=1,(C26-E26)*(1-B26/B25),0))) -> 17620408 | G26: =C26-E26-F26 -> 2.026347e+08 | H26: =D26+F26 -> 47015551
A27: 5 | B27: =IF(A27>$B$16,0,IF(A27<=$B$12,$B$5,$B$5*(1-$B$13)^(A27-$B$12))) -> 3114752000 | C27: =IF(A27>$B$16,0,G26) -> 2.026347e+08 | D27: =($B$11+$B$10)*C27 -> 26342510 | E27: =IF(A27>$B$16,0,MIN(C27,$B$8*$B$9*B27*$B$7)) -> 5392470.9 | F27: =IF(A27>$B$16,0,IF(A27=$B$16,C27-E27,IF($B$17=1,(C27-E27)*(1-B27/B26),0))) -> 1.9724222e+08 | G27: =C27-E27-F27 -> 0 | H27: =D27+F27 -> 2.2358474e+08
A28: 6 | B28: =IF(A28>$B$16,0,IF(A28<=$B$12,$B$5,$B$5*(1-$B$13)^(A28-$B$12))) -> 0 | C28: =IF(A28>$B$16,0,G27) -> 0 | D28: =($B$11+$B$10)*C28 -> 0 | E28: =IF(A28>$B$16,0,MIN(C28,$B$8*$B$9*B28*$B$7)) -> 0 | F28: =IF(A28>$B$16,0,IF(A28=$B$16,C28-E28,IF($B$17=1,(C28-E28)*(1-B28/B27),0))) -> 0 | G28: =C28-E28-F28 -> 0 | H28: =D28+F28 -> 0
A29: 7 | B29: =IF(A29>$B$16,0,IF(A29<=$B$12,$B$5,$B$5*(1-$B$13)^(A29-$B$12))) -> 0 | C29: =IF(A29>$B$16,0,G28) -> 0 | D29: =($B$11+$B$10)*C29 -> 0 | E29: =IF(A29>$B$16,0,MIN(C29,$B$8*$B$9*B29*$B$7)) -> 0 | F29: =IF(A29>$B$16,0,IF(A29=$B$16,C29-E29,IF($B$17=1,(C29-E29)*(1-B29/B28),0))) -> 0 | G29: =C29-E29-F29 -> 0 | H29: =D29+F29 -> 0
A30: 8 | B30: =IF(A30>$B$16,0,IF(A30<=$B$12,$B$5,$B$5*(1-$B$13)^(A30-$B$12))) -> 0 | C30: =IF(A30>$B$16,0,G29) -> 0 | D30: =($B$11+$B$10)*C30 -> 0 | E30: =IF(A30>$B$16,0,MIN(C30,$B$8*$B$9*B30*$B$7)) -> 0 | F30: =IF(A30>$B$16,0,IF(A30=$B$16,C30-E30,IF($B$17=1,(C30-E30)*(1-B30/B29),0))) -> 0 | G30: =C30-E30-F30 -> 0 | H30: =D30+F30 -> 0
A31: Total | D31: =SUM(D23:D30) -> 1.5677688e+08 | E31: =SUM(E23:E30) -> 31475064 | F31: =SUM(F23:F30) -> 2.3452494e+08 | G31: IRR | H31: =IRR(H22:H30,IF(SUM(H22:H30)>=0,0.1,-0.3)) -> 0.1039021
A33: Return
A34: Notional invested | B34: =C23 -> 266000000
A35: Control: principal repaid plus losses | B35: =F31+E31 -> 266000000
A36: Internal rate of return | B36: =H31 -> 0.1039021
A37: Return with leverage, floored at -100 percent | B37: =MAX(-1,B36+$B$14*(B36-$B$15)) -> 0.16600526
A38: The same formula without the floor | B38: =B36+$B$14*(B36-$B$15) -> 0.16600526
A39: Coupons less losses, nominal | B39: =D31-E31 -> 1.2530181e+08
A40: Share of the tranche consumed | B40: =E31/B34 -> 0.11832731
A41: Leverage to the pool's loss rate, on the tranche | B41: =1/$B$6 -> 14.285714
A42: and on the part the fund bought | B42: =1/($B$6*$B$7) -> 15.037594
A44: The investor's floor (Chapters 16 and 18)
A45: Balances, discounted at the hurdle | B45: =SUMPRODUCT(C23:C30,1/(1+$B$18)^A23:A30) -> 9.8506163e+08
...

Sheet Break-even
A1: By what multiple can defaults run before the fund stops making money?
A2: Chapter 22 and Problem 11. Coupons less losses is a straight line in the loss multiple (until a tranche is exhausted), so two schedules give the answer exactly.
A4: Losses at zero
A5: Year | B5: Reference pool | C5: Opening balance | D5: Coupon | E5: Lost to write-down | F5: Principal repaid | G5: Closing balance | H5: Cash flow
A6: 0 | B6: =Investor!$B$5 -> 4000000000 | H6: =-C7 -> -266000000
A7: 1 | B7: =IF(A7>Investor!$B$16,0,IF(A7<=Investor!$B$12,Investor!$B$5,Investor!$B$5*(1-Investor!$B$13)^(A7-Investor!$B$12))) -> 4000000000 | C7: =IF(A7>Investor!$B$16,0,Investor!$B$6*Investor!$B$5*Investor!$B$7) -> 266000000 | D7: =(Investor!$B$11+Investor!$B$10)*C7 -> 34580000 | E7: =IF(A7>Investor!$B$16,0,MIN(C7,0*B7*Investor!$B$7)) -> 0 | F7: =IF(A7>Investor!$B$16,0,IF(A7=Investor!$B$16,C7-E7,IF(Investor!$B$17=1,(C7-E7)*(1-B7/B6),0))) -> 0 | G7: =C7-E7-F7 -> 266000000 | H7: =D7+F7 -> 34580000
A8: 2 | B8: =IF(A8>Investor!$B$16,0,IF(A8<=Investor!$B$12,Investor!$B$5,Investor!$B$5*(1-Investor!$B$13)^(A8-Investor!$B$12))) -> 4000000000 | C8: =IF(A8>Investor!$B$16,0,G7) -> 266000000 | D8: =(Investor!$B$11+Investor!$B$10)*C8 -> 34580000 | E8: =IF(A8>Investor!$B$16,0,MIN(C8,0*B8*Investor!$B$7)) -> 0 | F8: =IF(A8>Investor!$B$16,0,IF(A8=Investor!$B$16,C8-E8,IF(Investor!$B$17=1,(C8-E8)*(1-B8/B7),0))) -> 0 | G8: =C8-E8-F8 -> 266000000 | H8: =D8+F8 -> 34580000
A9: 3 | B9: =IF(A9>Investor!$B$16,0,IF(A9<=Investor!$B$12,Investor!$B$5,Investor!$B$5*(1-Investor!$B$13)^(A9-Investor!$B$12))) -> 3680000000 | C9: =IF(A9>Investor!$B$16,0,G8) -> 266000000 | D9: =(Investor!$B$11+Investor!$B$10)*C9 -> 34580000 | E9: =IF(A9>Investor!$B$16,0,MIN(C9,0*B9*Investor!$B$7)) -> 0 | F9: =IF(A9>Investor!$B$16,0,IF(A9=Investor!$B$16,C9-E9,IF(Investor!$B$17=1,(C9-E9)*(1-B9/B8),0))) -> 21280000 | G9: =C9-E9-F9 -> 244720000 | H9: =D9+F9 -> 55860000
A10: 4 | B10: =IF(A10>Investor!$B$16,0,IF(A10<=Investor!$B$12,Investor!$B$5,Investor!$B$5*(1-Investor!$B$13)^(A10-Investor!$B$12))) -> 3385600000 | C10: =IF(A10>Investor!$B$16,0,G9) -> 244720000 | D10: =(Investor!$B$11+Investor!$B$10)*C10 -> 31813600 | E10: =IF(A10>Investor!$B$16,0,MIN(C10,0*B10*Investor!$B$7)) -> 0 | F10: =IF(A10>Investor!$B$16,0,IF(A10=Investor!$B$16,C10-E10,IF(Investor!$B$17=1,(C10-E10)*(1-B10/B9),0))) -> 19577600 | G10: =C10-E10-F10 -> 225142400 | H10: =D10+F10 -> 51391200
A11: 5 | B11: =IF(A11>Investor!$B$16,0,IF(A11<=Investor!$B$12,Investor!$B$5,Investor!$B$5*(1-Investor!$B$13)^(A11-Investor!$B$12))) -> 3114752000 | C11: =IF(A11>Investor!$B$16,0,G10) -> 225142400 | D11: =(Investor!$B$11+Investor!$B$10)*C11 -> 29268512 | E11: =IF(A11>Investor!$B$16,0,MIN(C11,0*B11*Investor!$B$7)) -> 0 | F11: =IF(A11>Investor!$B$16,0,IF(A11=Investor!$B$16,C11-E11,IF(Investor!$B$17=1,(C11-E11)*(1-B11/B10),0))) -> 225142400 | G11: =C11-E11-F11 -> 0 | H11: =D11+F11 -> 254410912
A12: 6 | B12: =IF(A12>Investor!$B$16,0,IF(A12<=Investor!$B$12,Investor!$B$5,Investor!$B$5*(1-Investor!$B$13)^(A12-Investor!$B$12))) -> 0 | C12: =IF(A12>Investor!$B$16,0,G11) -> 0 | D12: =(Investor!$B$11+Investor!$B$10)*C12 -> 0 | E12: =IF(A12>Investor!$B$16,0,MIN(C12,0*B12*Investor!$B$7)) -> 0 | F12: =IF(A12>Investor!$B$16,0,IF(A12=Investor!$B$16,C12-E12,IF(Investor!$B$17=1,(C12-E12)*(1-B12/B11),0))) -> 0 | G12: =C12-E12-F12 -> 0 | H12: =D12+F12 -> 0
A13: 7 | B13: =IF(A13>Investor!$B$16,0,IF(A13<=Investor!$B$12,Investor!$B$5,Investor!$B$5*(1-Investor!$B$13)^(A13-Investor!$B$12))) -> 0 | C13: =IF(A13>Investor!$B$16,0,G12) -> 0 | D13: =(Investor!$B$11+Investor!$B$10)*C13 -> 0 | E13: =IF(A13>Investor!$B$16,0,MIN(C13,0*B13*Investor!$B$7)) -> 0 | F13: =IF(A13>Investor!$B$16,0,IF(A13=Investor!$B$16,C13-E13,IF(Investor!$B$17=1,(C13-E13)*(1-B13/B12),0))) -> 0 | G13: =C13-E13-F13 -> 0 | H13: =D13+F13 -> 0
A14: 8 | B14: =IF(A14>Investor!$B$16,0,IF(A14<=Investor!$B$12,Investor!$B$5,Investor!$B$5*(1-Investor!$B$13)^(A14-Investor!$B$12))) -> 0 | C14: =IF(A14>Investor!$B$16,0,G13) -> 0 | D14: =(Investor!$B$11+Investor!$B$10)*C14 -> 0 | E14: =IF(A14>Investor!$B$16,0,MIN(C14,0*B14*Investor!$B$7)) -> 0 | F14: =IF(A14>Investor!$B$16,0,IF(A14=Investor!$B$16,C14-E14,IF(Investor!$B$17=1,(C14-E14)*(1-B14/B13),0))) -> 0 | G14: =C14-E14-F14 -> 0 | H14: =D14+F14 -> 0
A15: Total | D15: =SUM(D7:D14) -> 164822112 | E15: =SUM(E7:E14) -> 0 | F15: =SUM(F7:F14) -> 266000000 | G15: IRR | H15: =IRR(H6:H14,IF(SUM(H6:H14)>=0,0.1,-0.3)) -> 0.13
A18: Losses at the best estimate
A19: Year | B19: Reference pool | C19: Opening balance | D19: Coupon | E19: Lost to write-down | F19: Principal repaid | G19: Closing balance | H19: Cash flow
A20: 0 | B20: =Investor!$B$5 -> 4000000000 | H20: =-C21 -> -266000000
A21: 1 | B21: =IF(A21>Investor!$B$16,0,IF(A21<=Investor!$B$12,Investor!$B$5,Investor!$B$5*(1-Investor!$B$13)^(A21-Investor!$B$12))) -> 4000000000 | C21: =IF(A21>Investor!$B$16,0,Investor!$B$6*Investor!$B$5*Investor!$B$7) -> 266000000 | D21: =(Investor!$B$11+Investor!$B$10)*C21 -> 34580000 | E21: =IF(A21>Investor!$B$16,0,MIN(C21,Investor!$B$8*B21*Investor!$B$7)) -> 6925072.5 | F21: =IF(A21>Investor!$B$16,0,IF(A21=Investor!$B$16,C21-E21,IF(Investor!$B$17=1,(C21-E21)*(1-B21/B20),0))) -> 0 | G21: =C21-E21-F21 -> 2.5907493e+08 | H21: =D21+F21 -> 34580000
A22: 2 | B22: =IF(A22>Investor!$B$16,0,IF(A22<=Investor!$B$12,Investor!$B$5,Investor!$B$5*(1-Investor!$B$13)^(A22-Investor!$B$12))) -> 4000000000 | C22: =IF(A22>Investor!$B$16,0,G21) -> 2.5907493e+08 | D22: =(Investor!$B$11+Investor!$B$10)*C22 -> 33679741 | E22: =IF(A22>Investor!$B$16,0,MIN(C22,Investor!$B$8*B22*Investor!$B$7)) -> 6925072.5 | F22: =IF(A22>Investor!$B$16,0,IF(A22=Investor!$B$16,C22-E22,IF(Investor!$B$17=1,(C22-E22)*(1-B22/B21),0))) -> 0 | G22: =C22-E22-F22 -> 252149855 | H22: =D22+F22 -> 33679741
A23: 3 | B23: =IF(A23>Investor!$B$16,0,IF(A23<=Investor!$B$12,Investor!$B$5,Investor!$B$5*(1-Investor!$B$13)^(A23-Investor!$B$12))) -> 3680000000 | C23: =IF(A23>Investor!$B$16,0,G22) -> 252149855 | D23: =(Investor!$B$11+Investor!$B$10)*C23 -> 32779481 | E23: =IF(A23>Investor!$B$16,0,MIN(C23,Investor!$B$8*B23*Investor!$B$7)) -> 6371066.7 | F23: =IF(A23>Investor!$B$16,0,IF(A23=Investor!$B$16,C23-E23,IF(Investor!$B$17=1,(C23-E23)*(1-B23/B22),0))) -> 19662303 | G23: =C23-E23-F23 -> 2.2611649e+08 | H23: =D23+F23 -> 52441784
A24: 4 | B24: =IF(A24>Investor!$B$16,0,IF(A24<=Investor!$B$12,Investor!$B$5,Investor!$B$5*(1-Investor!$B$13)^(A24-Investor!$B$12))) -> 3385600000 | C24: =IF(A24>Investor!$B$16,0,G23) -> 2.2611649e+08 | D24: =(Investor!$B$11+Investor!$B$10)*C24 -> 29395143 | E24: =IF(A24>Investor!$B$16,0,MIN(C24,Investor!$B$8*B24*Investor!$B$7)) -> 5861381.4 | F24: =IF(A24>Investor!$B$16,0,IF(A24=Investor!$B$16,C24-E24,IF(Investor!$B$17=1,(C24-E24)*(1-B24/B23),0))) -> 17620408 | G24: =C24-E24-F24 -> 2.026347e+08 | H24: =D24+F24 -> 47015551
A25: 5 | B25: =IF(A25>Investor!$B$16,0,IF(A25<=Investor!$B$12,Investor!$B$5,Investor!$B$5*(1-Investor!$B$13)^(A25-Investor!$B$12))) -> 3114752000 | C25: =IF(A25>Investor!$B$16,0,G24) -> 2.026347e+08 | D25: =(Investor!$B$11+Investor!$B$10)*C25 -> 26342510 | E25: =IF(A25>Investor!$B$16,0,MIN(C25,Investor!$B$8*B25*Investor!$B$7)) -> 5392470.9 | F25: =IF(A25>Investor!$B$16,0,IF(A25=Investor!$B$16,C25-E25,IF(Investor!$B$17=1,(C25-E25)*(1-B25/B24),0))) -> 1.9724222e+08 | G25: =C25-E25-F25 -> 0 | H25: =D25+F25 -> 2.2358474e+08
A26: 6 | B26: =IF(A26>Investor!$B$16,0,IF(A26<=Investor!$B$12,Investor!$B$5,Investor!$B$5*(1-Investor!$B$13)^(A26-Investor!$B$12))) -> 0 | C26: =IF(A26>Investor!$B$16,0,G25) -> 0 | D26: =(Investor!$B$11+Investor!$B$10)*C26 -> 0 | E26: =IF(A26>Investor!$B$16,0,MIN(C26,Investor!$B$8*B26*Investor!$B$7)) -> 0 | F26: =IF(A26>Investor!$B$16,0,IF(A26=Investor!$B$16,C26-E26,IF(Investor!$B$17=1,(C26-E26)*(1-B26/B25),0))) -> 0 | G26: =C26-E26-F26 -> 0 | H26: =D26+F26 -> 0
A27: 7 | B27: =IF(A27>Investor!$B$16,0,IF(A27<=Investor!$B$12,Investor!$B$5,Investor!$B$5*(1-Investor!$B$13)^(A27-Investor!$B$12))) -> 0 | C27: =IF(A27>Investor!$B$16,0,G26) -> 0 | D27: =(Investor!$B$11+Investor!$B$10)*C27 -> 0 | E27: =IF(A27>Investor!$B$16,0,MIN(C27,Investor!$B$8*B27*Investor!$B$7)) -> 0 | F27: =IF(A27>Investor!$B$16,0,IF(A27=Investor!$B$16,C27-E27,IF(Investor!$B$17=1,(C27-E27)*(1-B27/B26),0))) -> 0 | G27: =C27-E27-F27 -> 0 | H27: =D27+F27 -> 0
A28: 8 | B28: =IF(A28>Investor!$B$16,0,IF(A28<=Investor!$B$12,Investor!$B$5,Investor!$B$5*(1-Investor!$B$13)^(A28-Investor!$B$12))) -> 0 | C28: =IF(A28>Investor!$B$16,0,G27) -> 0 | D28: =(Investor!$B$11+Investor!$B$10)*C28 -> 0 | E28: =IF(A28>Investor!$B$16,0,MIN(C28,Investor!$B$8*B28*Investor!$B$7)) -> 0 | F28: =IF(A28>Investor!$B$16,0,IF(A28=Investor!$B$16,C28-E28,IF(Investor!$B$17=1,(C28-E28)*(1-B28/B27),0))) -> 0 | G28: =C28-E28-F28 -> 0 | H28: =D28+F28 -> 0
A29: Total | D29: =SUM(D21:D28) -> 1.5677688e+08 | E29: =SUM(E21:E28) -> 31475064 | F29: =SUM(F21:F28) -> 2.3452494e+08 | G29: IRR | H29: =IRR(H20:H28,IF(SUM(H20:H28)>=0,0.1,-0.3)) -> 0.1039021
A32: The two break-evens
A33: Coupons with no losses | B33: =D15 -> 164822112
A34: Coupons less losses at the best estimate | B34: =D29-E29 -> 1.2530181e+08
A35: Multiple at which coupons and losses cancel (the whole coupon) | B35: =B33/(B33-B34) -> 4.1705683
A36: Margin earned with no losses | B36: =Investor!$B$10*SUM(C7:C14) -> 133125552
A37: Margin less losses at the best estimate | B37: =Investor!$B$10*SUM(C21:C28)-E29 -> 95152412
A38: Multiple at which the margin alone and losses cancel (beating cash) | B38: =B36/(B36-B37) -> 3.5057821
A40: Proof: the schedule at the first multiple
A41: Year | B41: Reference pool | C41: Opening balance | D41: Coupon | E41: Lost to write-down | F41: Principal repaid | G41: Closing balance | H41: Cash flow
A42: 0 | B42: =Investor!$B$5 -> 4000000000 | H42: =-C43 -> -266000000
A43: 1 | B43: =IF(A43>Investor!$B$16,0,IF(A43<=Investor!$B$12,Investor!$B$5,Investor!$B$5*(1-Investor!$B$13)^(A43-Investor!$B$12))) -> 4000000000 | C43: =IF(A43>Investor!$B$16,0,Investor!$B$6*Investor!$B$5*Investor!$B$7) -> 266000000 | D43: =(Investor!$B$11+Investor!$B$10)*C43 -> 34580000 | E43: =IF(A43>Investor!$B$16,0,MIN(C43,Investor!$B$8*$B$35*B43*Investor!$B$7)) -> 28881488 | F43: =IF(A43>Investor!$B$16,0,IF(A43=Investor!$B$16,C43-E43,IF(Investor!$B$17=1,(C43-E43)*(1-B43/B42),0))) -> 0 | G43: =C43-E43-F43 -> 2.3711851e+08 | H43: =D43+F43 -> 34580000
A44: 2 | B44: =IF(A44>Investor!$B$16,0,IF(A44<=Investor!$B$12,Investor!$B$5,Investor!$B$5*(1-Investor!$B$13)^(A44-Investor!$B$12))) -> 4000000000 | C44: =IF(A44>Investor!$B$16,0,G43) -> 2.3711851e+08 | D44: =(Investor!$B$11+Investor!$B$10)*C44 -> 30825407 | E44: =IF(A44>Investor!$B$16,0,MIN(C44,Investor!$B$8*$B$35*B44*Investor!$B$7)) -> 28881488 | F44: =IF(A44>Investor!$B$16,0,IF(A44=Investor!$B$16,C44-E44,IF(Investor!$B$17=1,(C44-E44)*(1-B44/B43),0))) -> 0 | G44: =C44-E44-F44 -> 2.0823702e+08 | H44: =D44+F44 -> 30825407
A45: 3 | B45: =IF(A45>Investor!$B$16,0,IF(A45<=Investor!$B$12,Investor!$B$5,Investor!$B$5*(1-Investor!$B$13)^(A45-Investor!$B$12))) -> 3680000000 | C45: =IF(A45>Investor!$B$16,0,G44) -> 2.0823702e+08 | D45: =(Investor!$B$11+Investor!$B$10)*C45 -> 27070813 | E45: =IF(A45>Investor!$B$16,0,MIN(C45,Investor!$B$8*$B$35*B45*Investor!$B$7)) -> 26570969 | F45: =IF(A45>Investor!$B$16,0,IF(A45=Investor!$B$16,C45-E45,IF(Investor!$B$17=1,(C45-E45)*(1-B45/B44),0))) -> 14533284 | G45: =C45-E45-F45 -> 1.6713277e+08 | H45: =D45+F45 -> 41604098
A46: 4 | B46: =IF(A46>Investor!$B$16,0,IF(A46<=Investor!$B$12,Investor!$B$5,Investor!$B$5*(1-Investor!$B$13)^(A46-Investor!$B$12))) -> 3385600000 | C46: =IF(A46>Investor!$B$16,0,G45) -> 1.6713277e+08 | D46: =(Investor!$B$11+Investor!$B$10)*C46 -> 21727260 | E46: =IF(A46>Investor!$B$16,0,MIN(C46,Investor!$B$8*$B$35*B46*Investor!$B$7)) -> 24445291 | F46: =IF(A46>Investor!$B$16,0,IF(A46=Investor!$B$16,C46-E46,IF(Investor!$B$17=1,(C46-E46)*(1-B46/B45),0))) -> 11414998 | G46: =C46-E46-F46 -> 1.3127248e+08 | H46: =D46+F46 -> 33142259
...

Sheet Stress
A1: Stress: six scenarios (Chapters 21 and 22)
A2: Held to maturity, unlevered and at the fund's leverage. The multiples are the book's; the regulatory loss rate is the bank's own PD times downturn LGD.
A4: Loss rate at the bank's regulatory parameters, a year | B4: 0.00350868
A5: Best-estimate LGD behind the loss rate on sheet 1 | B5: 0.3
A6: Stressed LGD | B6: 0.6
A8: Scenario | B8: Default multiple | C8: Loss rate | D8: Losses charged | E8: Tranche consumed | F8: Coupons | G8: Return | H8: At the fund's leverage | I8: Principal returned
A9: Best estimate | B9: 1 | C9: =Investor!$B$8*B9 -> 0.0018223875 | D9: =E28 -> 31475064 | E9: =E28/C20 -> 0.11832731 | F9: =D28 -> 1.5677688e+08 | G9: =H28 -> 0.1039021 | H9: =MAX(-1,G9+Investor!$B$14*(G9-Investor!$B$15)) -> 0.16600526 | I9: =F28 -> 2.3452494e+08
A10: Regulatory parameters | B10: 1 | C10: =$B$4 -> 0.00350868 | D10: =E42 -> 60599586 | E10: =E42/C34 -> 0.22781799 | F10: =D42 -> 1.4933245e+08 | G10: =H42 -> 0.077451376 | H10: =MAX(-1,G10+Investor!$B$14*(G10-Investor!$B$15)) -> 0.09987844 | I10: =F42 -> 2.0540041e+08
A11: Mild recession | B11: 2 | C11: =Investor!$B$8*B11 -> 0.003644775 | D11: =E56 -> 62950128 | E11: =E56/C48 -> 0.23665462 | F11: =D56 -> 1.4873164e+08 | G11: =H56 -> 0.075204194 | H11: =MAX(-1,G11+Investor!$B$14*(G11-Investor!$B$15)) -> 0.094260486 | I11: =F56 -> 2.0304987e+08
A12: Severe recession | B12: 3.5 | C12: =Investor!$B$8*B12 -> 0.0063783562 | D12: =E70 -> 1.1016272e+08 | E12: =E70/C62 -> 0.41414558 | F12: =D70 -> 1.3666378e+08 | G12: =H70 -> 0.025618037 | H12: =MAX(-1,G12+Investor!$B$14*(G12-Investor!$B$15)) -> -0.029704907 | I12: =F70 -> 1.5583728e+08
A13: Severe + LGD 60 percent | B13: 3.5 | C13: =Investor!$B$8*B13*$B$6/$B$5 -> 0.012756712 | D13: =E84 -> 2.2032545e+08 | E13: =E84/C76 -> 0.82829116 | F13: =D84 -> 1.0850545e+08 | G13: =H84 -> -0.15703989 | H13: =MAX(-1,G13+Investor!$B$14*(G13-Investor!$B$15)) -> -0.48634973 | I13: =F84 -> 45674553
A14: 2008-style | B14: 5 | C14: =Investor!$B$8*B14*$B$6/$B$5 -> 0.018223875 | D14: =E98 -> 2.6089129e+08 | E14: =E98/C90 -> 0.98079431 | F14: =D98 -> 84369744 | G14: =H98 -> -0.38089474 | H14: =MAX(-1,G14+Investor!$B$14*(G14-Investor!$B$15)) -> -1 | I14: =F98 -> 5108713.7
A17: Best estimate
A18: Year | B18: Reference pool | C18: Opening balance | D18: Coupon | E18: Lost to write-down | F18: Principal repaid | G18: Closing balance | H18: Cash flow
A19: 0 | B19: =Investor!$B$5 -> 4000000000 | H19: =-C20 -> -266000000
A20: 1 | B20: =IF(A20>Investor!$B$16,0,IF(A20<=Investor!$B$12,Investor!$B$5,Investor!$B$5*(1-Investor!$B$13)^(A20-Investor!$B$12))) -> 4000000000 | C20: =IF(A20>Investor!$B$16,0,Investor!$B$6*Investor!$B$5*Investor!$B$7) -> 266000000 | D20: =(Investor!$B$11+Investor!$B$10)*C20 -> 34580000 | E20: =IF(A20>Investor!$B$16,0,MIN(C20,Stress!$C$9*B20*Investor!$B$7)) -> 6925072.5 | F20: =IF(A20>Investor!$B$16,0,IF(A20=Investor!$B$16,C20-E20,IF(Investor!$B$17=1,(C20-E20)*(1-B20/B19),0))) -> 0 | G20: =C20-E20-F20 -> 2.5907493e+08 | H20: =D20+F20 -> 34580000
A21: 2 | B21: =IF(A21>Investor!$B$16,0,IF(A21<=Investor!$B$12,Investor!$B$5,Investor!$B$5*(1-Investor!$B$13)^(A21-Investor!$B$12))) -> 4000000000 | C21: =IF(A21>Investor!$B$16,0,G20) -> 2.5907493e+08 | D21: =(Investor!$B$11+Investor!$B$10)*C21 -> 33679741 | E21: =IF(A21>Investor!$B$16,0,MIN(C21,Stress!$C$9*B21*Investor!$B$7)) -> 6925072.5 | F21: =IF(A21>Investor!$B$16,0,IF(A21=Investor!$B$16,C21-E21,IF(Investor!$B$17=1,(C21-E21)*(1-B21/B20),0))) -> 0 | G21: =C21-E21-F21 -> 252149855 | H21: =D21+F21 -> 33679741
A22: 3 | B22: =IF(A22>Investor!$B$16,0,IF(A22<=Investor!$B$12,Investor!$B$5,Investor!$B$5*(1-Investor!$B$13)^(A22-Investor!$B$12))) -> 3680000000 | C22: =IF(A22>Investor!$B$16,0,G21) -> 252149855 | D22: =(Investor!$B$11+Investor!$B$10)*C22 -> 32779481 | E22: =IF(A22>Investor!$B$16,0,MIN(C22,Stress!$C$9*B22*Investor!$B$7)) -> 6371066.7 | F22: =IF(A22>Investor!$B$16,0,IF(A22=Investor!$B$16,C22-E22,IF(Investor!$B$17=1,(C22-E22)*(1-B22/B21),0))) -> 19662303 | G22: =C22-E22-F22 -> 2.2611649e+08 | H22: =D22+F22 -> 52441784
A23: 4 | B23: =IF(A23>Investor!$B$16,0,IF(A23<=Investor!$B$12,Investor!$B$5,Investor!$B$5*(1-Investor!$B$13)^(A23-Investor!$B$12))) -> 3385600000 | C23: =IF(A23>Investor!$B$16,0,G22) -> 2.2611649e+08 | D23: =(Investor!$B$11+Investor!$B$10)*C23 -> 29395143 | E23: =IF(A23>Investor!$B$16,0,MIN(C23,Stress!$C$9*B23*Investor!$B$7)) -> 5861381.4 | F23: =IF(A23>Investor!$B$16,0,IF(A23=Investor!$B$16,C23-E23,IF(Investor!$B$17=1,(C23-E23)*(1-B23/B22),0))) -> 17620408 | G23: =C23-E23-F23 -> 2.026347e+08 | H23: =D23+F23 -> 47015551
A24: 5 | B24: =IF(A24>Investor!$B$16,0,IF(A24<=Investor!$B$12,Investor!$B$5,Investor!$B$5*(1-Investor!$B$13)^(A24-Investor!$B$12))) -> 3114752000 | C24: =IF(A24>Investor!$B$16,0,G23) -> 2.026347e+08 | D24: =(Investor!$B$11+Investor!$B$10)*C24 -> 26342510 | E24: =IF(A24>Investor!$B$16,0,MIN(C24,Stress!$C$9*B24*Investor!$B$7)) -> 5392470.9 | F24: =IF(A24>Investor!$B$16,0,IF(A24=Investor!$B$16,C24-E24,IF(Investor!$B$17=1,(C24-E24)*(1-B24/B23),0))) -> 1.9724222e+08 | G24: =C24-E24-F24 -> 0 | H24: =D24+F24 -> 2.2358474e+08
A25: 6 | B25: =IF(A25>Investor!$B$16,0,IF(A25<=Investor!$B$12,Investor!$B$5,Investor!$B$5*(1-Investor!$B$13)^(A25-Investor!$B$12))) -> 0 | C25: =IF(A25>Investor!$B$16,0,G24) -> 0 | D25: =(Investor!$B$11+Investor!$B$10)*C25 -> 0 | E25: =IF(A25>Investor!$B$16,0,MIN(C25,Stress!$C$9*B25*Investor!$B$7)) -> 0 | F25: =IF(A25>Investor!$B$16,0,IF(A25=Investor!$B$16,C25-E25,IF(Investor!$B$17=1,(C25-E25)*(1-B25/B24),0))) -> 0 | G25: =C25-E25-F25 -> 0 | H25: =D25+F25 -> 0
A26: 7 | B26: =IF(A26>Investor!$B$16,0,IF(A26<=Investor!$B$12,Investor!$B$5,Investor!$B$5*(1-Investor!$B$13)^(A26-Investor!$B$12))) -> 0 | C26: =IF(A26>Investor!$B$16,0,G25) -> 0 | D26: =(Investor!$B$11+Investor!$B$10)*C26 -> 0 | E26: =IF(A26>Investor!$B$16,0,MIN(C26,Stress!$C$9*B26*Investor!$B$7)) -> 0 | F26: =IF(A26>Investor!$B$16,0,IF(A26=Investor!$B$16,C26-E26,IF(Investor!$B$17=1,(C26-E26)*(1-B26/B25),0))) -> 0 | G26: =C26-E26-F26 -> 0 | H26: =D26+F26 -> 0
A27: 8 | B27: =IF(A27>Investor!$B$16,0,IF(A27<=Investor!$B$12,Investor!$B$5,Investor!$B$5*(1-Investor!$B$13)^(A27-Investor!$B$12))) -> 0 | C27: =IF(A27>Investor!$B$16,0,G26) -> 0 | D27: =(Investor!$B$11+Investor!$B$10)*C27 -> 0 | E27: =IF(A27>Investor!$B$16,0,MIN(C27,Stress!$C$9*B27*Investor!$B$7)) -> 0 | F27: =IF(A27>Investor!$B$16,0,IF(A27=Investor!$B$16,C27-E27,IF(Investor!$B$17=1,(C27-E27)*(1-B27/B26),0))) -> 0 | G27: =C27-E27-F27 -> 0 | H27: =D27+F27 -> 0
A28: Total | D28: =SUM(D20:D27) -> 1.5677688e+08 | E28: =SUM(E20:E27) -> 31475064 | F28: =SUM(F20:F27) -> 2.3452494e+08 | G28: IRR | H28: =IRR(H19:H27,IF(SUM(H19:H27)>=0,0.1,-0.3)) -> 0.1039021
A31: Regulatory parameters
A32: Year | B32: Reference pool | C32: Opening balance | D32: Coupon | E32: Lost to write-down | F32: Principal repaid | G32: Closing balance | H32: Cash flow
A33: 0 | B33: =Investor!$B$5 -> 4000000000 | H33: =-C34 -> -266000000
A34: 1 | B34: =IF(A34>Investor!$B$16,0,IF(A34<=Investor!$B$12,Investor!$B$5,Investor!$B$5*(1-Investor!$B$13)^(A34-Investor!$B$12))) -> 4000000000 | C34: =IF(A34>Investor!$B$16,0,Investor!$B$6*Investor!$B$5*Investor!$B$7) -> 266000000 | D34: =(Investor!$B$11+Investor!$B$10)*C34 -> 34580000 | E34: =IF(A34>Investor!$B$16,0,MIN(C34,Stress!$C$10*B34*Investor!$B$7)) -> 13332984 | F34: =IF(A34>Investor!$B$16,0,IF(A34=Investor!$B$16,C34-E34,IF(Investor!$B$17=1,(C34-E34)*(1-B34/B33),0))) -> 0 | G34: =C34-E34-F34 -> 252667016 | H34: =D34+F34 -> 34580000
A35: 2 | B35: =IF(A35>Investor!$B$16,0,IF(A35<=Investor!$B$12,Investor!$B$5,Investor!$B$5*(1-Investor!$B$13)^(A35-Investor!$B$12))) -> 4000000000 | C35: =IF(A35>Investor!$B$16,0,G34) -> 252667016 | D35: =(Investor!$B$11+Investor!$B$10)*C35 -> 32846712 | E35: =IF(A35>Investor!$B$16,0,MIN(C35,Stress!$C$10*B35*Investor!$B$7)) -> 13332984 | F35: =IF(A35>Investor!$B$16,0,IF(A35=Investor!$B$16,C35-E35,IF(Investor!$B$17=1,(C35-E35)*(1-B35/B34),0))) -> 0 | G35: =C35-E35-F35 -> 239334032 | H35: =D35+F35 -> 32846712
A36: 3 | B36: =IF(A36>Investor!$B$16,0,IF(A36<=Investor!$B$12,Investor!$B$5,Investor!$B$5*(1-Investor!$B$13)^(A36-Investor!$B$12))) -> 3680000000 | C36: =IF(A36>Investor!$B$16,0,G35) -> 239334032 | D36: =(Investor!$B$11+Investor!$B$10)*C36 -> 31113424 | E36: =IF(A36>Investor!$B$16,0,MIN(C36,Stress!$C$10*B36*Investor!$B$7)) -> 12266345 | F36: =IF(A36>Investor!$B$16,0,IF(A36=Investor!$B$16,C36-E36,IF(Investor!$B$17=1,(C36-E36)*(1-B36/B35),0))) -> 18165415 | G36: =C36-E36-F36 -> 2.0890227e+08 | H36: =D36+F36 -> 49278839
A37: 4 | B37: =IF(A37>Investor!$B$16,0,IF(A37<=Investor!$B$12,Investor!$B$5,Investor!$B$5*(1-Investor!$B$13)^(A37-Investor!$B$12))) -> 3385600000 | C37: =IF(A37>Investor!$B$16,0,G36) -> 2.0890227e+08 | D37: =(Investor!$B$11+Investor!$B$10)*C37 -> 27157295 | E37: =IF(A37>Investor!$B$16,0,MIN(C37,Stress!$C$10*B37*Investor!$B$7)) -> 11285038 | F37: =IF(A37>Investor!$B$16,0,IF(A37=Investor!$B$16,C37-E37,IF(Investor!$B$17=1,(C37-E37)*(1-B37/B36),0))) -> 15809379 | G37: =C37-E37-F37 -> 1.8180786e+08 | H37: =D37+F37 -> 42966674
A38: 5 | B38: =IF(A38>Investor!$B$16,0,IF(A38<=Investor!$B$12,Investor!$B$5,Investor!$B$5*(1-Investor!$B$13)^(A38-Investor!$B$12))) -> 3114752000 | C38: =IF(A38>Investor!$B$16,0,G37) -> 1.8180786e+08 | D38: =(Investor!$B$11+Investor!$B$10)*C38 -> 23635021 | E38: =IF(A38>Investor!$B$16,0,MIN(C38,Stress!$C$10*B38*Investor!$B$7)) -> 10382235 | F38: =IF(A38>Investor!$B$16,0,IF(A38=Investor!$B$16,C38-E38,IF(Investor!$B$17=1,(C38-E38)*(1-B38/B37),0))) -> 1.7142562e+08 | G38: =C38-E38-F38 -> 0 | H38: =D38+F38 -> 1.9506064e+08
A39: 6 | B39: =IF(A39>Investor!$B$16,0,IF(A39<=Investor!$B$12,Investor!$B$5,Investor!$B$5*(1-Investor!$B$13)^(A39-Investor!$B$12))) -> 0 | C39: =IF(A39>Investor!$B$16,0,G38) -> 0 | D39: =(Investor!$B$11+Investor!$B$10)*C39 -> 0 | E39: =IF(A39>Investor!$B$16,0,MIN(C39,Stress!$C$10*B39*Investor!$B$7)) -> 0 | F39: =IF(A39>Investor!$B$16,0,IF(A39=Investor!$B$16,C39-E39,IF(Investor!$B$17=1,(C39-E39)*(1-B39/B38),0))) -> 0 | G39: =C39-E39-F39 -> 0 | H39: =D39+F39 -> 0
A40: 7 | B40: =IF(A40>Investor!$B$16,0,IF(A40<=Investor!$B$12,Investor!$B$5,Investor!$B$5*(1-Investor!$B$13)^(A40-Investor!$B$12))) -> 0 | C40: =IF(A40>Investor!$B$16,0,G39) -> 0 | D40: =(Investor!$B$11+Investor!$B$10)*C40 -> 0 | E40: =IF(A40>Investor!$B$16,0,MIN(C40,Stress!$C$10*B40*Investor!$B$7)) -> 0 | F40: =IF(A40>Investor!$B$16,0,IF(A40=Investor!$B$16,C40-E40,IF(Investor!$B$17=1,(C40-E40)*(1-B40/B39),0))) -> 0 | G40: =C40-E40-F40 -> 0 | H40: =D40+F40 -> 0
A41: 8 | B41: =IF(A41>Investor!$B$16,0,IF(A41<=Investor!$B$12,Investor!$B$5,Investor!$B$5*(1-Investor!$B$13)^(A41-Investor!$B$12))) -> 0 | C41: =IF(A41>Investor!$B$16,0,G40) -> 0 | D41: =(Investor!$B$11+Investor!$B$10)*C41 -> 0 | E41: =IF(A41>Investor!$B$16,0,MIN(C41,Stress!$C$10*B41*Investor!$B$7)) -> 0 | F41: =IF(A41>Investor!$B$16,0,IF(A41=Investor!$B$16,C41-E41,IF(Investor!$B$17=1,(C41-E41)*(1-B41/B40),0))) -> 0 | G41: =C41-E41-F41 -> 0 | H41: =D41+F41 -> 0
A42: Total | D42: =SUM(D34:D41) -> 1.4933245e+08 | E42: =SUM(E34:E41) -> 60599586 | F42: =SUM(F34:F41) -> 2.0540041e+08 | G42: IRR | H42: =IRR(H33:H41,IF(SUM(H33:H41)>=0,0.1,-0.3)) -> 0.077451376
A45: Mild recession
A46: Year | B46: Reference pool | C46: Opening balance | D46: Coupon | E46: Lost to write-down | F46: Principal repaid | G46: Closing balance | H46: Cash flow
A47: 0 | B47: =Investor!$B$5 -> 4000000000 | H47: =-C48 -> -266000000
A48: 1 | B48: =IF(A48>Investor!$B$16,0,IF(A48<=Investor!$B$12,Investor!$B$5,Investor!$B$5*(1-Investor!$B$13)^(A48-Investor!$B$12))) -> 4000000000 | C48: =IF(A48>Investor!$B$16,0,Investor!$B$6*Investor!$B$5*Investor!$B$7) -> 266000000 | D48: =(Investor!$B$11+Investor!$B$10)*C48 -> 34580000 | E48: =IF(A48>Investor!$B$16,0,MIN(C48,Stress!$C$11*B48*Investor!$B$7)) -> 13850145 | F48: =IF(A48>Investor!$B$16,0,IF(A48=Investor!$B$16,C48-E48,IF(Investor!$B$17=1,(C48-E48)*(1-B48/B47),0))) -> 0 | G48: =C48-E48-F48 -> 252149855 | H48: =D48+F48 -> 34580000
...

Sheet Holding period
A1: The fund's return by holding period (Chapter 20)
A2: Same portfolio, same tranche, same margin: one clause of difference, pro rata or sequential amortisation of the protection.
A4: Holding period, years | B4: Pro rata | C4: Sequential
A5: 3 | B5: =H23 -> 0.1039594 | C5: =H37 -> 0.1039594
A6: 5 | B6: =H51 -> 0.1039021 | C6: =H65 -> 0.10488601
A7: 7 | B7: =H79 -> 0.10363984 | C7: =H93 -> 0.10581069
A8: 8 | B8: =H107 -> 0.10349469 | C8: =H121 -> 0.10623935
A10: Two extra years, pro rata | B10: =B7-B6 -> -0.00026226866 | C10: =C7-C6 -> 0.00092468216
A12: 3 years, pro rata
A13: Year | B13: Reference pool | C13: Opening balance | D13: Coupon | E13: Lost to write-down | F13: Principal repaid | G13: Closing balance | H13: Cash flow
A14: 0 | B14: =Investor!$B$5 -> 4000000000 | H14: =-C15 -> -266000000
A15: 1 | B15: =IF(A15>$A$5,0,IF(A15<=Investor!$B$12,Investor!$B$5,Investor!$B$5*(1-Investor!$B$13)^(A15-Investor!$B$12))) -> 4000000000 | C15: =IF(A15>$A$5,0,Investor!$B$6*Investor!$B$5*Investor!$B$7) -> 266000000 | D15: =(Investor!$B$11+Investor!$B$10)*C15 -> 34580000 | E15: =IF(A15>$A$5,0,MIN(C15,Investor!$B$8*Investor!$B$9*B15*Investor!$B$7)) -> 6925072.5 | F15: =IF(A15>$A$5,0,IF(A15=$A$5,C15-E15,IF(1=1,(C15-E15)*(1-B15/B14),0))) -> 0 | G15: =C15-E15-F15 -> 2.5907493e+08 | H15: =D15+F15 -> 34580000
A16: 2 | B16: =IF(A16>$A$5,0,IF(A16<=Investor!$B$12,Investor!$B$5,Investor!$B$5*(1-Investor!$B$13)^(A16-Investor!$B$12))) -> 4000000000 | C16: =IF(A16>$A$5,0,G15) -> 2.5907493e+08 | D16: =(Investor!$B$11+Investor!$B$10)*C16 -> 33679741 | E16: =IF(A16>$A$5,0,MIN(C16,Investor!$B$8*Investor!$B$9*B16*Investor!$B$7)) -> 6925072.5 | F16: =IF(A16>$A$5,0,IF(A16=$A$5,C16-E16,IF(1=1,(C16-E16)*(1-B16/B15),0))) -> 0 | G16: =C16-E16-F16 -> 252149855 | H16: =D16+F16 -> 33679741
A17: 3 | B17: =IF(A17>$A$5,0,IF(A17<=Investor!$B$12,Investor!$B$5,Investor!$B$5*(1-Investor!$B$13)^(A17-Investor!$B$12))) -> 3680000000 | C17: =IF(A17>$A$5,0,G16) -> 252149855 | D17: =(Investor!$B$11+Investor!$B$10)*C17 -> 32779481 | E17: =IF(A17>$A$5,0,MIN(C17,Investor!$B$8*Investor!$B$9*B17*Investor!$B$7)) -> 6371066.7 | F17: =IF(A17>$A$5,0,IF(A17=$A$5,C17-E17,IF(1=1,(C17-E17)*(1-B17/B16),0))) -> 2.4577879e+08 | G17: =C17-E17-F17 -> 0 | H17: =D17+F17 -> 2.7855827e+08
A18: 4 | B18: =IF(A18>$A$5,0,IF(A18<=Investor!$B$12,Investor!$B$5,Investor!$B$5*(1-Investor!$B$13)^(A18-Investor!$B$12))) -> 0 | C18: =IF(A18>$A$5,0,G17) -> 0 | D18: =(Investor!$B$11+Investor!$B$10)*C18 -> 0 | E18: =IF(A18>$A$5,0,MIN(C18,Investor!$B$8*Investor!$B$9*B18*Investor!$B$7)) -> 0 | F18: =IF(A18>$A$5,0,IF(A18=$A$5,C18-E18,IF(1=1,(C18-E18)*(1-B18/B17),0))) -> 0 | G18: =C18-E18-F18 -> 0 | H18: =D18+F18 -> 0
A19: 5 | B19: =IF(A19>$A$5,0,IF(A19<=Investor!$B$12,Investor!$B$5,Investor!$B$5*(1-Investor!$B$13)^(A19-Investor!$B$12))) -> 0 | C19: =IF(A19>$A$5,0,G18) -> 0 | D19: =(Investor!$B$11+Investor!$B$10)*C19 -> 0 | E19: =IF(A19>$A$5,0,MIN(C19,Investor!$B$8*Investor!$B$9*B19*Investor!$B$7)) -> 0 | F19: =IF(A19>$A$5,0,IF(A19=$A$5,C19-E19,IF(1=1,(C19-E19)*(1-B19/B18),0))) -> 0 | G19: =C19-E19-F19 -> 0 | H19: =D19+F19 -> 0
A20: 6 | B20: =IF(A20>$A$5,0,IF(A20<=Investor!$B$12,Investor!$B$5,Investor!$B$5*(1-Investor!$B$13)^(A20-Investor!$B$12))) -> 0 | C20: =IF(A20>$A$5,0,G19) -> 0 | D20: =(Investor!$B$11+Investor!$B$10)*C20 -> 0 | E20: =IF(A20>$A$5,0,MIN(C20,Investor!$B$8*Investor!$B$9*B20*Investor!$B$7)) -> 0 | F20: =IF(A20>$A$5,0,IF(A20=$A$5,C20-E20,IF(1=1,(C20-E20)*(1-B20/B19),0))) -> 0 | G20: =C20-E20-F20 -> 0 | H20: =D20+F20 -> 0
A21: 7 | B21: =IF(A21>$A$5,0,IF(A21<=Investor!$B$12,Investor!$B$5,Investor!$B$5*(1-Investor!$B$13)^(A21-Investor!$B$12))) -> 0 | C21: =IF(A21>$A$5,0,G20) -> 0 | D21: =(Investor!$B$11+Investor!$B$10)*C21 -> 0 | E21: =IF(A21>$A$5,0,MIN(C21,Investor!$B$8*Investor!$B$9*B21*Investor!$B$7)) -> 0 | F21: =IF(A21>$A$5,0,IF(A21=$A$5,C21-E21,IF(1=1,(C21-E21)*(1-B21/B20),0))) -> 0 | G21: =C21-E21-F21 -> 0 | H21: =D21+F21 -> 0
A22: 8 | B22: =IF(A22>$A$5,0,IF(A22<=Investor!$B$12,Investor!$B$5,Investor!$B$5*(1-Investor!$B$13)^(A22-Investor!$B$12))) -> 0 | C22: =IF(A22>$A$5,0,G21) -> 0 | D22: =(Investor!$B$11+Investor!$B$10)*C22 -> 0 | E22: =IF(A22>$A$5,0,MIN(C22,Investor!$B$8*Investor!$B$9*B22*Investor!$B$7)) -> 0 | F22: =IF(A22>$A$5,0,IF(A22=$A$5,C22-E22,IF(1=1,(C22-E22)*(1-B22/B21),0))) -> 0 | G22: =C22-E22-F22 -> 0 | H22: =D22+F22 -> 0
A23: Total | D23: =SUM(D15:D22) -> 1.0103922e+08 | E23: =SUM(E15:E22) -> 20221212 | F23: =SUM(F15:F22) -> 2.4577879e+08 | G23: IRR | H23: =IRR(H14:H22,IF(SUM(H14:H22)>=0,0.1,-0.3)) -> 0.1039594
A26: 3 years, sequential
A27: Year | B27: Reference pool | C27: Opening balance | D27: Coupon | E27: Lost to write-down | F27: Principal repaid | G27: Closing balance | H27: Cash flow
A28: 0 | B28: =Investor!$B$5 -> 4000000000 | H28: =-C29 -> -266000000
A29: 1 | B29: =IF(A29>$A$5,0,IF(A29<=Investor!$B$12,Investor!$B$5,Investor!$B$5*(1-Investor!$B$13)^(A29-Investor!$B$12))) -> 4000000000 | C29: =IF(A29>$A$5,0,Investor!$B$6*Investor!$B$5*Investor!$B$7) -> 266000000 | D29: =(Investor!$B$11+Investor!$B$10)*C29 -> 34580000 | E29: =IF(A29>$A$5,0,MIN(C29,Investor!$B$8*Investor!$B$9*B29*Investor!$B$7)) -> 6925072.5 | F29: =IF(A29>$A$5,0,IF(A29=$A$5,C29-E29,IF(0=1,(C29-E29)*(1-B29/B28),0))) -> 0 | G29: =C29-E29-F29 -> 2.5907493e+08 | H29: =D29+F29 -> 34580000
A30: 2 | B30: =IF(A30>$A$5,0,IF(A30<=Investor!$B$12,Investor!$B$5,Investor!$B$5*(1-Investor!$B$13)^(A30-Investor!$B$12))) -> 4000000000 | C30: =IF(A30>$A$5,0,G29) -> 2.5907493e+08 | D30: =(Investor!$B$11+Investor!$B$10)*C30 -> 33679741 | E30: =IF(A30>$A$5,0,MIN(C30,Investor!$B$8*Investor!$B$9*B30*Investor!$B$7)) -> 6925072.5 | F30: =IF(A30>$A$5,0,IF(A30=$A$5,C30-E30,IF(0=1,(C30-E30)*(1-B30/B29),0))) -> 0 | G30: =C30-E30-F30 -> 252149855 | H30: =D30+F30 -> 33679741
A31: 3 | B31: =IF(A31>$A$5,0,IF(A31<=Investor!$B$12,Investor!$B$5,Investor!$B$5*(1-Investor!$B$13)^(A31-Investor!$B$12))) -> 3680000000 | C31: =IF(A31>$A$5,0,G30) -> 252149855 | D31: =(Investor!$B$11+Investor!$B$10)*C31 -> 32779481 | E31: =IF(A31>$A$5,0,MIN(C31,Investor!$B$8*Investor!$B$9*B31*Investor!$B$7)) -> 6371066.7 | F31: =IF(A31>$A$5,0,IF(A31=$A$5,C31-E31,IF(0=1,(C31-E31)*(1-B31/B30),0))) -> 2.4577879e+08 | G31: =C31-E31-F31 -> 0 | H31: =D31+F31 -> 2.7855827e+08
A32: 4 | B32: =IF(A32>$A$5,0,IF(A32<=Investor!$B$12,Investor!$B$5,Investor!$B$5*(1-Investor!$B$13)^(A32-Investor!$B$12))) -> 0 | C32: =IF(A32>$A$5,0,G31) -> 0 | D32: =(Investor!$B$11+Investor!$B$10)*C32 -> 0 | E32: =IF(A32>$A$5,0,MIN(C32,Investor!$B$8*Investor!$B$9*B32*Investor!$B$7)) -> 0 | F32: =IF(A32>$A$5,0,IF(A32=$A$5,C32-E32,IF(0=1,(C32-E32)*(1-B32/B31),0))) -> 0 | G32: =C32-E32-F32 -> 0 | H32: =D32+F32 -> 0
A33: 5 | B33: =IF(A33>$A$5,0,IF(A33<=Investor!$B$12,Investor!$B$5,Investor!$B$5*(1-Investor!$B$13)^(A33-Investor!$B$12))) -> 0 | C33: =IF(A33>$A$5,0,G32) -> 0 | D33: =(Investor!$B$11+Investor!$B$10)*C33 -> 0 | E33: =IF(A33>$A$5,0,MIN(C33,Investor!$B$8*Investor!$B$9*B33*Investor!$B$7)) -> 0 | F33: =IF(A33>$A$5,0,IF(A33=$A$5,C33-E33,IF(0=1,(C33-E33)*(1-B33/B32),0))) -> 0 | G33: =C33-E33-F33 -> 0 | H33: =D33+F33 -> 0
A34: 6 | B34: =IF(A34>$A$5,0,IF(A34<=Investor!$B$12,Investor!$B$5,Investor!$B$5*(1-Investor!$B$13)^(A34-Investor!$B$12))) -> 0 | C34: =IF(A34>$A$5,0,G33) -> 0 | D34: =(Investor!$B$11+Investor!$B$10)*C34 -> 0 | E34: =IF(A34>$A$5,0,MIN(C34,Investor!$B$8*Investor!$B$9*B34*Investor!$B$7)) -> 0 | F34: =IF(A34>$A$5,0,IF(A34=$A$5,C34-E34,IF(0=1,(C34-E34)*(1-B34/B33),0))) -> 0 | G34: =C34-E34-F34 -> 0 | H34: =D34+F34 -> 0
A35: 7 | B35: =IF(A35>$A$5,0,IF(A35<=Investor!$B$12,Investor!$B$5,Investor!$B$5*(1-Investor!$B$13)^(A35-Investor!$B$12))) -> 0 | C35: =IF(A35>$A$5,0,G34) -> 0 | D35: =(Investor!$B$11+Investor!$B$10)*C35 -> 0 | E35: =IF(A35>$A$5,0,MIN(C35,Investor!$B$8*Investor!$B$9*B35*Investor!$B$7)) -> 0 | F35: =IF(A35>$A$5,0,IF(A35=$A$5,C35-E35,IF(0=1,(C35-E35)*(1-B35/B34),0))) -> 0 | G35: =C35-E35-F35 -> 0 | H35: =D35+F35 -> 0
A36: 8 | B36: =IF(A36>$A$5,0,IF(A36<=Investor!$B$12,Investor!$B$5,Investor!$B$5*(1-Investor!$B$13)^(A36-Investor!$B$12))) -> 0 | C36: =IF(A36>$A$5,0,G35) -> 0 | D36: =(Investor!$B$11+Investor!$B$10)*C36 -> 0 | E36: =IF(A36>$A$5,0,MIN(C36,Investor!$B$8*Investor!$B$9*B36*Investor!$B$7)) -> 0 | F36: =IF(A36>$A$5,0,IF(A36=$A$5,C36-E36,IF(0=1,(C36-E36)*(1-B36/B35),0))) -> 0 | G36: =C36-E36-F36 -> 0 | H36: =D36+F36 -> 0
A37: Total | D37: =SUM(D29:D36) -> 1.0103922e+08 | E37: =SUM(E29:E36) -> 20221212 | F37: =SUM(F29:F36) -> 2.4577879e+08 | G37: IRR | H37: =IRR(H28:H36,IF(SUM(H28:H36)>=0,0.1,-0.3)) -> 0.1039594
A40: 5 years, pro rata
A41: Year | B41: Reference pool | C41: Opening balance | D41: Coupon | E41: Lost to write-down | F41: Principal repaid | G41: Closing balance | H41: Cash flow
A42: 0 | B42: =Investor!$B$5 -> 4000000000 | H42: =-C43 -> -266000000
A43: 1 | B43: =IF(A43>$A$6,0,IF(A43<=Investor!$B$12,Investor!$B$5,Investor!$B$5*(1-Investor!$B$13)^(A43-Investor!$B$12))) -> 4000000000 | C43: =IF(A43>$A$6,0,Investor!$B$6*Investor!$B$5*Investor!$B$7) -> 266000000 | D43: =(Investor!$B$11+Investor!$B$10)*C43 -> 34580000 | E43: =IF(A43>$A$6,0,MIN(C43,Investor!$B$8*Investor!$B$9*B43*Investor!$B$7)) -> 6925072.5 | F43: =IF(A43>$A$6,0,IF(A43=$A$6,C43-E43,IF(1=1,(C43-E43)*(1-B43/B42),0))) -> 0 | G43: =C43-E43-F43 -> 2.5907493e+08 | H43: =D43+F43 -> 34580000
A44: 2 | B44: =IF(A44>$A$6,0,IF(A44<=Investor!$B$12,Investor!$B$5,Investor!$B$5*(1-Investor!$B$13)^(A44-Investor!$B$12))) -> 4000000000 | C44: =IF(A44>$A$6,0,G43) -> 2.5907493e+08 | D44: =(Investor!$B$11+Investor!$B$10)*C44 -> 33679741 | E44: =IF(A44>$A$6,0,MIN(C44,Investor!$B$8*Investor!$B$9*B44*Investor!$B$7)) -> 6925072.5 | F44: =IF(A44>$A$6,0,IF(A44=$A$6,C44-E44,IF(1=1,(C44-E44)*(1-B44/B43),0))) -> 0 | G44: =C44-E44-F44 -> 252149855 | H44: =D44+F44 -> 33679741
A45: 3 | B45: =IF(A45>$A$6,0,IF(A45<=Investor!$B$12,Investor!$B$5,Investor!$B$5*(1-Investor!$B$13)^(A45-Investor!$B$12))) -> 3680000000 | C45: =IF(A45>$A$6,0,G44) -> 252149855 | D45: =(Investor!$B$11+Investor!$B$10)*C45 -> 32779481 | E45: =IF(A45>$A$6,0,MIN(C45,Investor!$B$8*Investor!$B$9*B45*Investor!$B$7)) -> 6371066.7 | F45: =IF(A45>$A$6,0,IF(A45=$A$6,C45-E45,IF(1=1,(C45-E45)*(1-B45/B44),0))) -> 19662303 | G45: =C45-E45-F45 -> 2.2611649e+08 | H45: =D45+F45 -> 52441784
A46: 4 | B46: =IF(A46>$A$6,0,IF(A46<=Investor!$B$12,Investor!$B$5,Investor!$B$5*(1-Investor!$B$13)^(A46-Investor!$B$12))) -> 3385600000 | C46: =IF(A46>$A$6,0,G45) -> 2.2611649e+08 | D46: =(Investor!$B$11+Investor!$B$10)*C46 -> 29395143 | E46: =IF(A46>$A$6,0,MIN(C46,Investor!$B$8*Investor!$B$9*B46*Investor!$B$7)) -> 5861381.4 | F46: =IF(A46>$A$6,0,IF(A46=$A$6,C46-E46,IF(1=1,(C46-E46)*(1-B46/B45),0))) -> 17620408 | G46: =C46-E46-F46 -> 2.026347e+08 | H46: =D46+F46 -> 47015551
A47: 5 | B47: =IF(A47>$A$6,0,IF(A47<=Investor!$B$12,Investor!$B$5,Investor!$B$5*(1-Investor!$B$13)^(A47-Investor!$B$12))) -> 3114752000 | C47: =IF(A47>$A$6,0,G46) -> 2.026347e+08 | D47: =(Investor!$B$11+Investor!$B$10)*C47 -> 26342510 | E47: =IF(A47>$A$6,0,MIN(C47,Investor!$B$8*Investor!$B$9*B47*Investor!$B$7)) -> 5392470.9 | F47: =IF(A47>$A$6,0,IF(A47=$A$6,C47-E47,IF(1=1,(C47-E47)*(1-B47/B46),0))) -> 1.9724222e+08 | G47: =C47-E47-F47 -> 0 | H47: =D47+F47 -> 2.2358474e+08
...

Sheet Controls
A1: Controls
A2: Each row reproduces a figure printed in the book, or tests something that must hold.
A4: Figure | B4: Live formula | C4: Printed in the book | D4: Difference | E4: Status | F4: Note
A5: Coupons received | B5: =Investor!D31 -> 1.5677688e+08 | C5: 1.5677688e+08 | D5: =B5-C5 -> 0 | E5: =IF(ISNUMBER(B5),IF(ABS(D5)<=ABS(C5)*0.0001+0.000001,"OK","CHECK"),"CHECK") -> OK | F5: Chapter 16
A6: Lost to write-down | B6: =Investor!E31 -> 31475064 | C6: 31475064 | D6: =B6-C6 -> 0 | E6: =IF(ISNUMBER(B6),IF(ABS(D6)<=ABS(C6)*0.0001+0.000001,"OK","CHECK"),"CHECK") -> OK | F6: Chapter 16
A7: Principal repaid | B7: =Investor!F31 -> 2.3452494e+08 | C7: 2.3452494e+08 | D7: =B7-C7 -> 0 | E7: =IF(ISNUMBER(B7),IF(ABS(D7)<=ABS(C7)*0.0001+0.000001,"OK","CHECK"),"CHECK") -> OK | F7: Chapter 16
A8: Control: repaid plus lost equals notional | B8: =Investor!B35 -> 266000000 | C8: 266000000 | D8: =B8-C8 -> 0 | E8: =IF(ISNUMBER(B8),IF(ABS(D8)<=ABS(C8)*0.0001+0.000001,"OK","CHECK"),"CHECK") -> OK
A9: Internal rate of return | B9: =Investor!B36 -> 0.1039021 | C9: 0.1039021 | D9: =B9-C9 -> 0 | E9: =IF(ISNUMBER(B9),IF(ABS(D9)<=ABS(C9)*0.0001+0.000001,"OK","CHECK"),"CHECK") -> OK | F9: Chapter 16
A10: Return with leverage | B10: =Investor!B37 -> 0.16600526 | C10: 0.16600526 | D10: =B10-C10 -> 0 | E10: =IF(ISNUMBER(B10),IF(ABS(D10)<=ABS(C10)*0.0001+0.000001,"OK","CHECK"),"CHECK") -> OK | F10: Chapter 21
A11: Year 1: coupon | B11: =Investor!D23 -> 34580000 | C11: 34600000 | D11: =B11-C11 -> -20000 | E11: =IF(ISNUMBER(B11),IF(ABS(D11)<=50000,"OK","CHECK"),"CHECK") -> OK | F11: Chapter 16
A12: Year 1: written down | B12: =Investor!E23 -> 6925072.5 | C12: 6900000 | D12: =B12-C12 -> 25072.5 | E12: =IF(ISNUMBER(B12),IF(ABS(D12)<=50000,"OK","CHECK"),"CHECK") -> OK | F12: Chapter 16
A13: Year 1: principal repaid | B13: =Investor!F23 -> 0 | C13: 0 | D13: =B13-C13 -> 0 | E13: =IF(ISNUMBER(B13),IF(ABS(D13)<=50000,"OK","CHECK"),"CHECK") -> OK | F13: Chapter 16
A14: Year 2: coupon | B14: =Investor!D24 -> 33679741 | C14: 33700000 | D14: =B14-C14 -> -20259.425 | E14: =IF(ISNUMBER(B14),IF(ABS(D14)<=50000,"OK","CHECK"),"CHECK") -> OK | F14: Chapter 16
A15: Year 2: written down | B15: =Investor!E24 -> 6925072.5 | C15: 6900000 | D15: =B15-C15 -> 25072.5 | E15: =IF(ISNUMBER(B15),IF(ABS(D15)<=50000,"OK","CHECK"),"CHECK") -> OK | F15: Chapter 16
A16: Year 2: principal repaid | B16: =Investor!F24 -> 0 | C16: 0 | D16: =B16-C16 -> 0 | E16: =IF(ISNUMBER(B16),IF(ABS(D16)<=50000,"OK","CHECK"),"CHECK") -> OK | F16: Chapter 16
A17: Year 3: coupon | B17: =Investor!D25 -> 32779481 | C17: 32800000 | D17: =B17-C17 -> -20518.85 | E17: =IF(ISNUMBER(B17),IF(ABS(D17)<=50000,"OK","CHECK"),"CHECK") -> OK | F17: Chapter 16
A18: Year 3: written down | B18: =Investor!E25 -> 6371066.7 | C18: 6400000 | D18: =B18-C18 -> -28933.3 | E18: =IF(ISNUMBER(B18),IF(ABS(D18)<=50000,"OK","CHECK"),"CHECK") -> OK | F18: Chapter 16
A19: Year 3: principal repaid | B19: =Investor!F25 -> 19662303 | C19: 19700000 | D19: =B19-C19 -> -37696.936 | E19: =IF(ISNUMBER(B19),IF(ABS(D19)<=50000,"OK","CHECK"),"CHECK") -> OK | F19: Chapter 16
A20: Year 4: coupon | B20: =Investor!D26 -> 29395143 | C20: 29400000 | D20: =B20-C20 -> -4856.9193 | E20: =IF(ISNUMBER(B20),IF(ABS(D20)<=50000,"OK","CHECK"),"CHECK") -> OK | F20: Chapter 16
A21: Year 4: written down | B21: =Investor!E26 -> 5861381.4 | C21: 5900000 | D21: =B21-C21 -> -38618.636 | E21: =IF(ISNUMBER(B21),IF(ABS(D21)<=50000,"OK","CHECK"),"CHECK") -> OK | F21: Chapter 16
A22: Year 4: principal repaid | B22: =Investor!F26 -> 17620408 | C22: 17600000 | D22: =B22-C22 -> 20408.31 | E22: =IF(ISNUMBER(B22),IF(ABS(D22)<=50000,"OK","CHECK"),"CHECK") -> OK | F22: Chapter 16
A23: Year 5: coupon | B23: =Investor!D27 -> 26342510 | C23: 26300000 | D23: =B23-C23 -> 42510.423 | E23: =IF(ISNUMBER(B23),IF(ABS(D23)<=50000,"OK","CHECK"),"CHECK") -> OK | F23: Chapter 16
A24: Year 5: written down | B24: =Investor!E27 -> 5392470.9 | C24: 5400000 | D24: =B24-C24 -> -7529.1451 | E24: =IF(ISNUMBER(B24),IF(ABS(D24)<=50000,"OK","CHECK"),"CHECK") -> OK | F24: Chapter 16
A25: Year 5: principal repaid | B25: =Investor!F27 -> 1.9724222e+08 | C25: 197200000 | D25: =B25-C25 -> 42224.707 | E25: =IF(ISNUMBER(B25),IF(ABS(D25)<=50000,"OK","CHECK"),"CHECK") -> OK | F25: Chapter 16
A26: Share of the tranche written down | B26: =Investor!B40 -> 0.11832731 | C26: 0.1183 | D26: =B26-C26 -> 2.7307966e-05 | E26: =IF(ISNUMBER(B26),IF(ABS(D26)<=0.00005,"OK","CHECK"),"CHECK") -> OK | F26: Chapter 16
A27: Leverage to the loss rate, on the tranche | B27: =Investor!B41 -> 14.285714 | C27: 14.3 | D27: =B27-C27 -> -0.014285714 | E27: =IF(ISNUMBER(B27),IF(ABS(D27)<=0.05,"OK","CHECK"),"CHECK") -> OK | F27: Chapter 16
A28: and on what the fund bought | B28: =Investor!B42 -> 15.037594 | C28: 15 | D28: =B28-C28 -> 0.037593985 | E28: =IF(ISNUMBER(B28),IF(ABS(D28)<=0.05,"OK","CHECK"),"CHECK") -> OK | F28: Chapter 16
A29: Investor's floor at the 7.50 percent hurdle | B29: =Investor!B47 -> 0.076097914 | C29: 0.0761 | D29: =B29-C29 -> -2.0855223e-06 | E29: =IF(ISNUMBER(B29),IF(ABS(D29)<=0.00005,"OK","CHECK"),"CHECK") -> OK | F29: Chapter 18
A30: At the floor, the value at the hurdle is nil | B30: =ABS(-Investor!B34+(Investor!B47+Investor!B11)*Investor!B45+Investor!B46)<1 -> TRUE | C30: — | E30: =IF(B30=TRUE(),"OK","CHECK") -> OK
A31: The loss charged twice understates the return by | B31: =Investor!B62 -> 0.026097909 | C31: 0.0261 | D31: =B31-C31 -> -2.0914273e-06 | E31: =IF(ISNUMBER(B31),IF(ABS(D31)<=0.00005,"OK","CHECK"),"CHECK") -> OK | F31: the book prints "roughly +2.50"; corrected
A32: Break-even multiple, whole coupon | B32: ='Break-even'!B35 -> 4.1705683 | C32: 4.17 | D32: =B32-C32 -> 0.000568268 | E32: =IF(ISNUMBER(B32),IF(ABS(D32)<=0.005,"OK","CHECK"),"CHECK") -> OK | F32: Chapter 22
A33: Break-even multiple, margin only | B33: ='Break-even'!B38 -> 3.5057821 | C33: 3.51 | D33: =B33-C33 -> -0.0042179446 | E33: =IF(ISNUMBER(B33),IF(ABS(D33)<=0.005,"OK","CHECK"),"CHECK") -> OK | F33: Chapter 22
A34: proof: coupons less losses at 4.17x is nil | B34: =ABS('Break-even'!B68)<1 -> TRUE | C34: — | E34: =IF(B34=TRUE(),"OK","CHECK") -> OK
A35: proof: margin less losses at 3.51x is nil | B35: =ABS('Break-even'!B69)<1 -> TRUE | C35: — | E35: =IF(B35=TRUE(),"OK","CHECK") -> OK
A36: Best estimate: losses | B36: =Stress!D9 -> 31475064 | C36: 31500000 | D36: =B36-C36 -> -24936.081 | E36: =IF(ISNUMBER(B36),IF(ABS(D36)<=50000,"OK","CHECK"),"CHECK") -> OK | F36: Chapter 22
A37: Best estimate: tranche consumed | B37: =Stress!E9 -> 0.11832731 | C37: 0.1183 | D37: =B37-C37 -> 2.7307966e-05 | E37: =IF(ISNUMBER(B37),IF(ABS(D37)<=0.00005,"OK","CHECK"),"CHECK") -> OK | F37: Chapter 22
A38: Best estimate: coupons | B38: =Stress!F9 -> 1.5677688e+08 | C38: 156800000 | D38: =B38-C38 -> -23124.771 | E38: =IF(ISNUMBER(B38),IF(ABS(D38)<=50000,"OK","CHECK"),"CHECK") -> OK | F38: Chapter 22
A39: Best estimate: return | B39: =Stress!G9 -> 0.1039021 | C39: 0.1039 | D39: =B39-C39 -> 2.1044675e-06 | E39: =IF(ISNUMBER(B39),IF(ABS(D39)<=0.00005,"OK","CHECK"),"CHECK") -> OK | F39: Chapter 22
A40: Best estimate: levered | B40: =Stress!H9 -> 0.16600526 | C40: 0.166 | D40: =B40-C40 -> 5.2611688e-06 | E40: =IF(ISNUMBER(B40),IF(ABS(D40)<=0.00005,"OK","CHECK"),"CHECK") -> OK | F40: Chapter 21
A41: Regulatory parameters: losses | B41: =Stress!D10 -> 60599586 | C41: 60600000 | D41: =B41-C41 -> -414.41741 | E41: =IF(ISNUMBER(B41),IF(ABS(D41)<=50000,"OK","CHECK"),"CHECK") -> OK | F41: Chapter 22
...
